BEGIN:VCALENDAR
VERSION:2.0
PRODID:-//UNIVERSITY OF TEXAS SCHOOL OF LAW//NONSGML Events Calendar v1.0//EN
X-WR-TIMEZONE:America/Chicago
BEGIN:VTIMEZONE
TZID:US/Central
X-LIC-LOCATION:America/Chicago
BEGIN:DAYLIGHT
TZOFFSETFROM:-0600
TZOFFSETTO:-0500
TZNAME:CDT
DTSTART:19700308T020000
RRULE:FREQ=YEARLY;BYMONTH=3;BYDAY=2SU
END:DAYLIGHT
BEGIN:STANDARD
TZOFFSETFROM:-0500
TZOFFSETTO:-0600
TZNAME:CST
DTSTART:19701101T020000
RRULE:FREQ=YEARLY;BYMONTH=11;BYDAY=1SU
END:STANDARD
END:VTIMEZONE
BEGIN:VEVENT
DTSTART;TZID=US/Central:20240319T120000
DTEND;VALUE=DATE-TIME;TZID=US/Central:20240319T131500

DTSTAMP:20260419T150300Z
CREATED:20240304T213500Z
LAST-MODIFIED:20240305T195900Z
UID:20240319T120000-77093@law.utexas.edu
SUMMARY:CWIL Power Lunch with Regina Jones
DESCRIPTION:<p>Regina Bynote Jones, Senior Vice President, General Counsel, and Secretary of ADM (one of the world’s largest nutrition companies), will be interviewed by our Executive Director, Veronica Stidvent. </p>
  <p>During this conversation, they will discuss Jones’s legal career and the ethical standards and challenges of a corporate general counsel. Jones will discuss how to help companies navigate regulatory frameworks and how regulatory and compliance expertise can transfer across industries. (Prior to joining ADM, Jones served as general counsel in the energy sector.)</p>
  <p>Approved for 1 Hour Ethics CLE. </p>\n\nIf you need an accommodation to participate in this event, please contact the event sponsor or the Texas Law Special Events Office at specialevents@law.utexas.edu no later than seven business days prior to the event.
X-ALT-DESC;FMTTYPE=text/html:<p>Regina Bynote Jones, Senior Vice President, General Counsel, and Secretary of ADM (one of the world’s largest nutrition companies), will be interviewed by our Executive Director, Veronica Stidvent. </p>
  <p>During this conversation, they will discuss Jones’s legal career and the ethical standards and challenges of a corporate general counsel. Jones will discuss how to help companies navigate regulatory frameworks and how regulatory and compliance expertise can transfer across industries. (Prior to joining ADM, Jones served as general counsel in the energy sector.)</p>
  <p>Approved for 1 Hour Ethics CLE. </p><p>If you need an accommodation to participate in this event, please contact the event
                                          event sponsor or the Texas Law Special Events Office at <a href="mailto:specialevents@law.utexas.edu">specialevents@law.utexas.edu</a> no later than seven business days prior to the event.</p>
CATEGORIES:Panel Discussion / Speaker Series

URL:http://law.utexas.edu/calendar/2024/03/19/77093/
CLASS:PUBLIC
STATUS:CONFIRMED

END:VEVENT
END:VCALENDAR