BEGIN:VCALENDAR
VERSION:2.0
PRODID:-//UNIVERSITY OF TEXAS SCHOOL OF LAW//NONSGML Events Calendar v1.0//EN
X-WR-TIMEZONE:America/Chicago
BEGIN:VTIMEZONE
TZID:US/Central
X-LIC-LOCATION:America/Chicago
BEGIN:DAYLIGHT
TZOFFSETFROM:-0600
TZOFFSETTO:-0500
TZNAME:CDT
DTSTART:19700308T020000
RRULE:FREQ=YEARLY;BYMONTH=3;BYDAY=2SU
END:DAYLIGHT
BEGIN:STANDARD
TZOFFSETFROM:-0500
TZOFFSETTO:-0600
TZNAME:CST
DTSTART:19701101T020000
RRULE:FREQ=YEARLY;BYMONTH=11;BYDAY=1SU
END:STANDARD
END:VTIMEZONE
BEGIN:VEVENT
DTSTART;TZID=US/Central:20240320T115000
DTEND;VALUE=DATE-TIME;TZID=US/Central:20240320T125000

DTSTAMP:20260419T122200Z
CREATED:20240227T043700Z
LAST-MODIFIED:20240305T180900Z
UID:20240320T115000-77041@law.utexas.edu
SUMMARY:Toxics, Pollution, and EJ in Texas
DESCRIPTION:<p>Panelists will talk about how toxics and industrial pollutants disproportionately impact lower income communities and communities of color, and what we as lawyers can do about it. Professor Wendy Wagner to moderate.</p>\n\nIf you need an accommodation to participate in this event, please contact the event sponsor or the Texas Law Special Events Office at specialevents@law.utexas.edu no later than seven business days prior to the event.
X-ALT-DESC;FMTTYPE=text/html:<p>Panelists will talk about how toxics and industrial pollutants disproportionately impact lower income communities and communities of color, and what we as lawyers can do about it. Professor Wendy Wagner to moderate.</p><p>If you need an accommodation to participate in this event, please contact the event
                                          event sponsor or the Texas Law Special Events Office at <a href="mailto:specialevents@law.utexas.edu">specialevents@law.utexas.edu</a> no later than seven business days prior to the event.</p>
CATEGORIES:Lunch
LOCATION:TNH 2.140 - Wright Classroom
URL:http://law.utexas.edu/calendar/2024/03/20/77041/
CLASS:PUBLIC
STATUS:CONFIRMED

END:VEVENT
END:VCALENDAR