BEGIN:VCALENDAR
VERSION:2.0
PRODID:-//UNIVERSITY OF TEXAS SCHOOL OF LAW//NONSGML Events Calendar v1.0//EN
X-WR-TIMEZONE:America/Chicago
BEGIN:VTIMEZONE
TZID:US/Central
X-LIC-LOCATION:America/Chicago
BEGIN:DAYLIGHT
TZOFFSETFROM:-0600
TZOFFSETTO:-0500
TZNAME:CDT
DTSTART:19700308T020000
RRULE:FREQ=YEARLY;BYMONTH=3;BYDAY=2SU
END:DAYLIGHT
BEGIN:STANDARD
TZOFFSETFROM:-0500
TZOFFSETTO:-0600
TZNAME:CST
DTSTART:19701101T020000
RRULE:FREQ=YEARLY;BYMONTH=11;BYDAY=1SU
END:STANDARD
END:VTIMEZONE
BEGIN:VEVENT
DTSTART;TZID=US/Central:20240320T160000
DTEND;VALUE=DATE-TIME;TZID=US/Central:20240320T170000

DTSTAMP:20260419T180400Z
CREATED:20240227T172400Z
LAST-MODIFIED:20240308T132600Z
UID:20240320T160000-77042@law.utexas.edu
SUMMARY:Pro Bono Scholar Info Session
DESCRIPTION:<p>Students interested in being Pro Bono Scholars for the 2024-2025 academic year are invited to attend an information session on Wednesday, March 20, from 4pm-5pm (Zoom). Register here: <a href="https://utexas.zoom.us/meeting/register/tJUtc-iurj0sHtBCsIUXsxnuuct7aZuIoWL9">https://utexas.zoom.us/meeting/register/tJUtc-iurj0sHtBCsIUXsxnuuct7aZuIoWL9</a> </p>\n\nIf you need an accommodation to participate in this event, please contact the event sponsor or the Texas Law Special Events Office at specialevents@law.utexas.edu no later than seven business days prior to the event.
X-ALT-DESC;FMTTYPE=text/html:<p>Students interested in being Pro Bono Scholars for the 2024-2025 academic year are invited to attend an information session on Wednesday, March 20, from 4pm-5pm (Zoom). Register here: <a href="https://utexas.zoom.us/meeting/register/tJUtc-iurj0sHtBCsIUXsxnuuct7aZuIoWL9">https://utexas.zoom.us/meeting/register/tJUtc-iurj0sHtBCsIUXsxnuuct7aZuIoWL9</a> </p><p>If you need an accommodation to participate in this event, please contact the event
                                          event sponsor or the Texas Law Special Events Office at <a href="mailto:specialevents@law.utexas.edu">specialevents@law.utexas.edu</a> no later than seven business days prior to the event.</p>
CATEGORIES:Other

URL:http://law.utexas.edu/calendar/2024/03/20/77042/
CLASS:PUBLIC
STATUS:CONFIRMED

END:VEVENT
END:VCALENDAR