BEGIN:VCALENDAR
VERSION:2.0
PRODID:-//UNIVERSITY OF TEXAS SCHOOL OF LAW//NONSGML Events Calendar v1.0//EN
X-WR-TIMEZONE:America/Chicago
BEGIN:VTIMEZONE
TZID:US/Central
X-LIC-LOCATION:America/Chicago
BEGIN:DAYLIGHT
TZOFFSETFROM:-0600
TZOFFSETTO:-0500
TZNAME:CDT
DTSTART:19700308T020000
RRULE:FREQ=YEARLY;BYMONTH=3;BYDAY=2SU
END:DAYLIGHT
BEGIN:STANDARD
TZOFFSETFROM:-0500
TZOFFSETTO:-0600
TZNAME:CST
DTSTART:19701101T020000
RRULE:FREQ=YEARLY;BYMONTH=11;BYDAY=1SU
END:STANDARD
END:VTIMEZONE
BEGIN:VEVENT
DTSTART;TZID=US/Central:20240320T113000
DTEND;VALUE=DATE-TIME;TZID=US/Central:20240320T131500

DTSTAMP:20260419T173700Z
CREATED:20240311T232000Z
LAST-MODIFIED:20240311T232000Z
UID:20240320T113000-77208@law.utexas.edu
SUMMARY:Advocacy Program Open House
DESCRIPTION:<p>Find out about Advocacy Program courses (in preparation for early registration), workshops, and extracurricular activities such as interscholastic mock trial and moot court.  Also discover what the Board of Advocates has to offer.  You will have the opportunity to meet the Director of Advocacy and ask questions of the Advocacy Program staff and/or current students involved in the Program. Not to mention, FREE LUNCH!</p>
  <p>It is a come and go event, so feel free to stop by the 3rd floor of CCJ (Connally Center for Justice), grab a lunch, and chat with Advocacy Program staff and students anytime between 11:30 a.m. - 1:00 p.m.   
  </p>\n\nIf you need an accommodation to participate in this event, please contact the event sponsor or the Texas Law Special Events Office at specialevents@law.utexas.edu no later than seven business days prior to the event.
X-ALT-DESC;FMTTYPE=text/html:<p>Find out about Advocacy Program courses (in preparation for early registration), workshops, and extracurricular activities such as interscholastic mock trial and moot court.  Also discover what the Board of Advocates has to offer.  You will have the opportunity to meet the Director of Advocacy and ask questions of the Advocacy Program staff and/or current students involved in the Program. Not to mention, FREE LUNCH!</p>
  <p>It is a come and go event, so feel free to stop by the 3rd floor of CCJ (Connally Center for Justice), grab a lunch, and chat with Advocacy Program staff and students anytime between 11:30 a.m. - 1:00 p.m.   
  </p><p>If you need an accommodation to participate in this event, please contact the event
                                          event sponsor or the Texas Law Special Events Office at <a href="mailto:specialevents@law.utexas.edu">specialevents@law.utexas.edu</a> no later than seven business days prior to the event.</p>
CATEGORIES:Other

URL:http://law.utexas.edu/calendar/2024/03/20/77208/
CLASS:PUBLIC
STATUS:CONFIRMED
COMMENT:mmassin@law.utexas.edu
END:VEVENT
END:VCALENDAR