BEGIN:VCALENDAR
VERSION:2.0
PRODID:-//UNIVERSITY OF TEXAS SCHOOL OF LAW//NONSGML Events Calendar v1.0//EN
X-WR-TIMEZONE:America/Chicago
BEGIN:VTIMEZONE
TZID:US/Central
X-LIC-LOCATION:America/Chicago
BEGIN:DAYLIGHT
TZOFFSETFROM:-0600
TZOFFSETTO:-0500
TZNAME:CDT
DTSTART:19700308T020000
RRULE:FREQ=YEARLY;BYMONTH=3;BYDAY=2SU
END:DAYLIGHT
BEGIN:STANDARD
TZOFFSETFROM:-0500
TZOFFSETTO:-0600
TZNAME:CST
DTSTART:19701101T020000
RRULE:FREQ=YEARLY;BYMONTH=11;BYDAY=1SU
END:STANDARD
END:VTIMEZONE
BEGIN:VEVENT
DTSTART;TZID=US/Central:20240321T190000
DTEND;VALUE=DATE-TIME;TZID=US/Central:20240321T220000

DTSTAMP:20260419T213300Z
CREATED:20240208T141500Z
LAST-MODIFIED:20240212T042200Z
UID:20240321T190000-76847@law.utexas.edu
SUMMARY:TLF Casino Night
DESCRIPTION:<p>Join TLF for our annual Casino Night! This event is meant to help raise funds for public interest law students. Casino Night will be held on Thursday, March 21st from 7-10pm at Lustre Pearl East! Tickets will be on sale in the atrium. </p>\n\nIf you need an accommodation to participate in this event, please contact the event sponsor or the Texas Law Special Events Office at specialevents@law.utexas.edu no later than seven business days prior to the event.
X-ALT-DESC;FMTTYPE=text/html:<p>Join TLF for our annual Casino Night! This event is meant to help raise funds for public interest law students. Casino Night will be held on Thursday, March 21st from 7-10pm at Lustre Pearl East! Tickets will be on sale in the atrium. </p><p>If you need an accommodation to participate in this event, please contact the event
                                          event sponsor or the Texas Law Special Events Office at <a href="mailto:specialevents@law.utexas.edu">specialevents@law.utexas.edu</a> no later than seven business days prior to the event.</p>
CATEGORIES:Other
LOCATION:Lustre Pearl East
URL:http://law.utexas.edu/calendar/2024/03/21/76847/
CLASS:PUBLIC
STATUS:CONFIRMED

END:VEVENT
END:VCALENDAR