BEGIN:VCALENDAR
VERSION:2.0
PRODID:-//UNIVERSITY OF TEXAS SCHOOL OF LAW//NONSGML Events Calendar v1.0//EN
X-WR-TIMEZONE:America/Chicago
BEGIN:VTIMEZONE
TZID:US/Central
X-LIC-LOCATION:America/Chicago
BEGIN:DAYLIGHT
TZOFFSETFROM:-0600
TZOFFSETTO:-0500
TZNAME:CDT
DTSTART:19700308T020000
RRULE:FREQ=YEARLY;BYMONTH=3;BYDAY=2SU
END:DAYLIGHT
BEGIN:STANDARD
TZOFFSETFROM:-0500
TZOFFSETTO:-0600
TZNAME:CST
DTSTART:19701101T020000
RRULE:FREQ=YEARLY;BYMONTH=11;BYDAY=1SU
END:STANDARD
END:VTIMEZONE
BEGIN:VEVENT
DTSTART;TZID=US/Central:20240322T130000
DTEND;VALUE=DATE-TIME;TZID=US/Central:20240322T180000

DTSTAMP:20260419T181800Z
CREATED:20231114T210800Z
LAST-MODIFIED:20240306T142300Z
UID:20240322T130000-76087@law.utexas.edu
SUMMARY:Kickball Tournament!
DESCRIPTION:<p>Get ready for the inaugural UT Law Kickball Tournament! 🏆</p>
  <p>Who can participate? EVERYONE! 1Ls, 2Ls, 3Ls and LLMs are all invited to join the fun! ⚖️⚽</p>
  <p>What's at stake? Glory, bragging rights, and awesome prizes! The winning team will receive a shiny trophy and special championship t-shirts! 🥇👕</p>
  <p>Don't miss out on this epic event! Mark your calendars and gather your squad for a day of kickball excitement! 🎉🌟</p>
  <p>Sign-Up: <a href="https://utexas.qualtrics.com/jfe/form/SV_d6kqqP5xBK276T4">https://utexas.qualtrics.com/jfe/form/SV_d6kqqP5xBK276T4</a> </p>\n\nIf you need an accommodation to participate in this event, please contact the event sponsor or the Texas Law Special Events Office at specialevents@law.utexas.edu no later than seven business days prior to the event.
X-ALT-DESC;FMTTYPE=text/html:<p>Get ready for the inaugural UT Law Kickball Tournament! 🏆</p>
  <p>Who can participate? EVERYONE! 1Ls, 2Ls, 3Ls and LLMs are all invited to join the fun! ⚖️⚽</p>
  <p>What's at stake? Glory, bragging rights, and awesome prizes! The winning team will receive a shiny trophy and special championship t-shirts! 🥇👕</p>
  <p>Don't miss out on this epic event! Mark your calendars and gather your squad for a day of kickball excitement! 🎉🌟</p>
  <p>Sign-Up: <a href="https://utexas.qualtrics.com/jfe/form/SV_d6kqqP5xBK276T4">https://utexas.qualtrics.com/jfe/form/SV_d6kqqP5xBK276T4</a> </p><p>If you need an accommodation to participate in this event, please contact the event
                                          event sponsor or the Texas Law Special Events Office at <a href="mailto:specialevents@law.utexas.edu">specialevents@law.utexas.edu</a> no later than seven business days prior to the event.</p>
CATEGORIES:Other
LOCATION:Charles Alan Wright Fields at the Berry M. Whitaker Sports Complex
URL:http://law.utexas.edu/calendar/2024/03/22/76087/
CLASS:PUBLIC
STATUS:CONFIRMED

END:VEVENT
END:VCALENDAR