BEGIN:VCALENDAR
VERSION:2.0
PRODID:-//UNIVERSITY OF TEXAS SCHOOL OF LAW//NONSGML Events Calendar v1.0//EN
X-WR-TIMEZONE:America/Chicago
BEGIN:VTIMEZONE
TZID:US/Central
X-LIC-LOCATION:America/Chicago
BEGIN:DAYLIGHT
TZOFFSETFROM:-0600
TZOFFSETTO:-0500
TZNAME:CDT
DTSTART:19700308T020000
RRULE:FREQ=YEARLY;BYMONTH=3;BYDAY=2SU
END:DAYLIGHT
BEGIN:STANDARD
TZOFFSETFROM:-0500
TZOFFSETTO:-0600
TZNAME:CST
DTSTART:19701101T020000
RRULE:FREQ=YEARLY;BYMONTH=11;BYDAY=1SU
END:STANDARD
END:VTIMEZONE
BEGIN:VEVENT
DTSTART;TZID=US/Central:20240325T115000
DTEND;VALUE=DATE-TIME;TZID=US/Central:20240325T125000

DTSTAMP:20260419T203200Z
CREATED:20240321T121200Z
LAST-MODIFIED:20240324T210800Z
UID:20240325T115000-77307@law.utexas.edu
SUMMARY:The Future of Independent Agencies
DESCRIPTION:<p>Please join the Texas Federalist Society March 25th for a discussion about the future of independent agencies in light of recent Supreme Court decisions. Guiding us in this discussion will be the Texas Solicitor General Aaron Neilson and Professor John Golden. </p>\n\nIf you need an accommodation to participate in this event, please contact the event sponsor or the Texas Law Special Events Office at specialevents@law.utexas.edu no later than seven business days prior to the event.
X-ALT-DESC;FMTTYPE=text/html:<p>Please join the Texas Federalist Society March 25th for a discussion about the future of independent agencies in light of recent Supreme Court decisions. Guiding us in this discussion will be the Texas Solicitor General Aaron Neilson and Professor John Golden. </p><p>If you need an accommodation to participate in this event, please contact the event
                                          event sponsor or the Texas Law Special Events Office at <a href="mailto:specialevents@law.utexas.edu">specialevents@law.utexas.edu</a> no later than seven business days prior to the event.</p>
CATEGORIES:Lunch
LOCATION:TNH 2.139 - Wilson Classroom
URL:http://law.utexas.edu/calendar/2024/03/25/77307/
CLASS:PUBLIC
STATUS:CONFIRMED

END:VEVENT
END:VCALENDAR