BEGIN:VCALENDAR
VERSION:2.0
PRODID:-//UNIVERSITY OF TEXAS SCHOOL OF LAW//NONSGML Events Calendar v1.0//EN
X-WR-TIMEZONE:America/Chicago
BEGIN:VTIMEZONE
TZID:US/Central
X-LIC-LOCATION:America/Chicago
BEGIN:DAYLIGHT
TZOFFSETFROM:-0600
TZOFFSETTO:-0500
TZNAME:CDT
DTSTART:19700308T020000
RRULE:FREQ=YEARLY;BYMONTH=3;BYDAY=2SU
END:DAYLIGHT
BEGIN:STANDARD
TZOFFSETFROM:-0500
TZOFFSETTO:-0600
TZNAME:CST
DTSTART:19701101T020000
RRULE:FREQ=YEARLY;BYMONTH=11;BYDAY=1SU
END:STANDARD
END:VTIMEZONE
BEGIN:VEVENT
DTSTART;TZID=US/Central:20240327T114500
DTEND;VALUE=DATE-TIME;TZID=US/Central:20240327T124500

DTSTAMP:20260419T211700Z
CREATED:20231108T143000Z
LAST-MODIFIED:20240325T172500Z
UID:20240327T114500-75946@law.utexas.edu
SUMMARY:Lives in the Law, Micheal Urena
DESCRIPTION:<p>“The Struggle Over Native American Children and Haaland v Brackeen: Permanent Peace or Temporary Truce?” </p>
  <p>Lives in the Law speaker Michael E. Urena will discuss the U.S. Supreme Court’s recent decision in Haaland v. Brackeen, which rejected constitutional challenges to the Indian Child Welfare Act (ICWA), in the context of the history of the U.S. Government’s treatment of Native American children, including the establishment of federal Indian boarding schools and other practices that led to the ICWA’s passage. He’ll also address the state court proceedings that preceded the federal case and explore the likelihood of future challenges to the ICWA.</p>
  <p>This event has been accredited by the State Bar of Texas for 1.00 hour of CLE credit.</p>
  <p>Eidman Courtroom, 11:45-12:45 pm, with boxed lunches in the Jamail Pavilion immediately following. Mr. Urena will also be available to meet with students from 1-2 pm.</p>
  <p>Hosted by the William Wayne Justice Center for Public Interest Law and the Career Services Office.</p>
  <p>About the speaker:</p>
  <p>Michael E. Urena has provided legal services to low-income Texans and their families in Eagle Pass for almost 30 years as an attorney at Texas RioGrande Legal Aid (TRLA).  Currently, he leads TRLA’s Disability Rights practice as well as its Native American practice.</p>
  <p>For more information, visit: <a href="https://law.utexas.edu/publicinterest/events/lives-in-the-law-with-michael-urena/">https://law.utexas.edu/publicinterest/events/lives-in-the-law-with-michael-urena/</a></p>\n\nIf you need an accommodation to participate in this event, please contact the event sponsor or the Texas Law Special Events Office at specialevents@law.utexas.edu no later than seven business days prior to the event.
X-ALT-DESC;FMTTYPE=text/html:<p>“The Struggle Over Native American Children and Haaland v Brackeen: Permanent Peace or Temporary Truce?” </p>
  <p>Lives in the Law speaker Michael E. Urena will discuss the U.S. Supreme Court’s recent decision in Haaland v. Brackeen, which rejected constitutional challenges to the Indian Child Welfare Act (ICWA), in the context of the history of the U.S. Government’s treatment of Native American children, including the establishment of federal Indian boarding schools and other practices that led to the ICWA’s passage. He’ll also address the state court proceedings that preceded the federal case and explore the likelihood of future challenges to the ICWA.</p>
  <p>This event has been accredited by the State Bar of Texas for 1.00 hour of CLE credit.</p>
  <p>Eidman Courtroom, 11:45-12:45 pm, with boxed lunches in the Jamail Pavilion immediately following. Mr. Urena will also be available to meet with students from 1-2 pm.</p>
  <p>Hosted by the William Wayne Justice Center for Public Interest Law and the Career Services Office.</p>
  <p>About the speaker:</p>
  <p>Michael E. Urena has provided legal services to low-income Texans and their families in Eagle Pass for almost 30 years as an attorney at Texas RioGrande Legal Aid (TRLA).  Currently, he leads TRLA’s Disability Rights practice as well as its Native American practice.</p>
  <p>For more information, visit: <a href="https://law.utexas.edu/publicinterest/events/lives-in-the-law-with-michael-urena/">https://law.utexas.edu/publicinterest/events/lives-in-the-law-with-michael-urena/</a></p><p>If you need an accommodation to participate in this event, please contact the event
                                          event sponsor or the Texas Law Special Events Office at <a href="mailto:specialevents@law.utexas.edu">specialevents@law.utexas.edu</a> no later than seven business days prior to the event.</p>
CATEGORIES:Panel Discussion / Speaker Series
LOCATION:CCJ 2.306 - Eidman Courtroom
URL:http://law.utexas.edu/calendar/2024/03/27/75946/
CLASS:PUBLIC
STATUS:CONFIRMED

END:VEVENT
END:VCALENDAR