BEGIN:VCALENDAR
VERSION:2.0
PRODID:-//UNIVERSITY OF TEXAS SCHOOL OF LAW//NONSGML Events Calendar v1.0//EN
X-WR-TIMEZONE:America/Chicago
BEGIN:VTIMEZONE
TZID:US/Central
X-LIC-LOCATION:America/Chicago
BEGIN:DAYLIGHT
TZOFFSETFROM:-0600
TZOFFSETTO:-0500
TZNAME:CDT
DTSTART:19700308T020000
RRULE:FREQ=YEARLY;BYMONTH=3;BYDAY=2SU
END:DAYLIGHT
BEGIN:STANDARD
TZOFFSETFROM:-0500
TZOFFSETTO:-0600
TZNAME:CST
DTSTART:19701101T020000
RRULE:FREQ=YEARLY;BYMONTH=11;BYDAY=1SU
END:STANDARD
END:VTIMEZONE
BEGIN:VEVENT
DTSTART;TZID=US/Central:20240327T121500
DTEND;VALUE=DATE-TIME;TZID=US/Central:20240327T133000

DTSTAMP:20260419T170400Z
CREATED:20240318T140800Z
LAST-MODIFIED:20240318T140800Z
UID:20240327T121500-77247@law.utexas.edu
SUMMARY:Bruce Hoffman and Jacob Ware
DESCRIPTION:<p>On Wednesday, March 27, the Strauss Center for International Security and Law, LBJ School of Public Affairs, and Clements Center for National Security will welcome authors Bruce Hoffman and Jacob Ware to discuss their newly published book “God, Guns, and Sedition: Far-Right Terrorism in America.” Hoffman and Ware will trace the historical trajectory and assess the present-day dangers of this violent extremist movement, along with the harm it poses to U.S. national security. </p>
  <p>Biographies
  Bruce Hoffman is the Shelby Cullom and Kathryn W. Davis Senior Fellow for Counterterrorism and Homeland Security at the Council on Foreign Relations. He is also a professor at Georgetown University’s Walsh School of Foreign Service; professor emeritus of terrorism studies at the University of St Andrews; and the George H. Gilmore Senior Fellow at the U.S. Military Academy’s Combating Terrorism Center. His Columbia University Press books include Inside Terrorism (third edition, 2017).</p>
  <p>Jacob Ware is a research fellow at the Council on Foreign Relations and an adjunct professor at Georgetown University’s Walsh School of Foreign Service and at DeSales University. He serves on the editorial boards for the academic journal Studies in Conflict &amp; Terrorism and the Irregular Warfare Initiative at the Modern War Institute at West Point.</p>\n\nIf you need an accommodation to participate in this event, please contact the event sponsor or the Texas Law Special Events Office at specialevents@law.utexas.edu no later than seven business days prior to the event.
X-ALT-DESC;FMTTYPE=text/html:<p>On Wednesday, March 27, the Strauss Center for International Security and Law, LBJ School of Public Affairs, and Clements Center for National Security will welcome authors Bruce Hoffman and Jacob Ware to discuss their newly published book “God, Guns, and Sedition: Far-Right Terrorism in America.” Hoffman and Ware will trace the historical trajectory and assess the present-day dangers of this violent extremist movement, along with the harm it poses to U.S. national security. </p>
  <p>Biographies
  Bruce Hoffman is the Shelby Cullom and Kathryn W. Davis Senior Fellow for Counterterrorism and Homeland Security at the Council on Foreign Relations. He is also a professor at Georgetown University’s Walsh School of Foreign Service; professor emeritus of terrorism studies at the University of St Andrews; and the George H. Gilmore Senior Fellow at the U.S. Military Academy’s Combating Terrorism Center. His Columbia University Press books include Inside Terrorism (third edition, 2017).</p>
  <p>Jacob Ware is a research fellow at the Council on Foreign Relations and an adjunct professor at Georgetown University’s Walsh School of Foreign Service and at DeSales University. He serves on the editorial boards for the academic journal Studies in Conflict &amp; Terrorism and the Irregular Warfare Initiative at the Modern War Institute at West Point.</p><p>If you need an accommodation to participate in this event, please contact the event
                                          event sponsor or the Texas Law Special Events Office at <a href="mailto:specialevents@law.utexas.edu">specialevents@law.utexas.edu</a> no later than seven business days prior to the event.</p>
CATEGORIES:Panel Discussion / Speaker Series
LOCATION:Bass Hall, LBJ School of Public Affairs
URL:http://law.utexas.edu/calendar/2024/03/27/77247/
CLASS:PUBLIC
STATUS:CONFIRMED
COMMENT:ali.prince@austin.utexas.edu
END:VEVENT
END:VCALENDAR