BEGIN:VCALENDAR
VERSION:2.0
PRODID:-//UNIVERSITY OF TEXAS SCHOOL OF LAW//NONSGML Events Calendar v1.0//EN
X-WR-TIMEZONE:America/Chicago
BEGIN:VTIMEZONE
TZID:US/Central
X-LIC-LOCATION:America/Chicago
BEGIN:DAYLIGHT
TZOFFSETFROM:-0600
TZOFFSETTO:-0500
TZNAME:CDT
DTSTART:19700308T020000
RRULE:FREQ=YEARLY;BYMONTH=3;BYDAY=2SU
END:DAYLIGHT
BEGIN:STANDARD
TZOFFSETFROM:-0500
TZOFFSETTO:-0600
TZNAME:CST
DTSTART:19701101T020000
RRULE:FREQ=YEARLY;BYMONTH=11;BYDAY=1SU
END:STANDARD
END:VTIMEZONE
BEGIN:VEVENT
DTSTART;TZID=US/Central:20240329T130000
DTEND;VALUE=DATE-TIME;TZID=US/Central:20240329T170000

DTSTAMP:20260419T183800Z
CREATED:20240201T193600Z
LAST-MODIFIED:20240208T194400Z
UID:20240329T130000-76791@law.utexas.edu
SUMMARY:TJCLCR Disability Rights Symposium
DESCRIPTION:<p>Please join us at TJCLCR's virtual symposium on disability rights. On Thursday, March 28th at 6pm, the authors of TJCLCR's special spring issue on disability rights will speak on their research. If you are on campus, please join us in the Sheffield-Massey Room to share a meal and listen to the virtual panel together. On Friday, March 29th, we will enjoy snacks and beverages at our in-person watch party as we enjoy panels on the intersection of disability rights with employment law, immigration law, and reproductive rights.</p>\n\nIf you need an accommodation to participate in this event, please contact the event sponsor or the Texas Law Special Events Office at specialevents@law.utexas.edu no later than seven business days prior to the event.
X-ALT-DESC;FMTTYPE=text/html:<p>Please join us at TJCLCR's virtual symposium on disability rights. On Thursday, March 28th at 6pm, the authors of TJCLCR's special spring issue on disability rights will speak on their research. If you are on campus, please join us in the Sheffield-Massey Room to share a meal and listen to the virtual panel together. On Friday, March 29th, we will enjoy snacks and beverages at our in-person watch party as we enjoy panels on the intersection of disability rights with employment law, immigration law, and reproductive rights.</p><p>If you need an accommodation to participate in this event, please contact the event
                                          event sponsor or the Texas Law Special Events Office at <a href="mailto:specialevents@law.utexas.edu">specialevents@law.utexas.edu</a> no later than seven business days prior to the event.</p>
CATEGORIES:Symposium
LOCATION:TNH 2.137 - Gayle Classroom
URL:http://law.utexas.edu/calendar/2024/03/29/76791/
CLASS:PUBLIC
STATUS:CONFIRMED

END:VEVENT
END:VCALENDAR