BEGIN:VCALENDAR
VERSION:2.0
PRODID:-//UNIVERSITY OF TEXAS SCHOOL OF LAW//NONSGML Events Calendar v1.0//EN
X-WR-TIMEZONE:America/Chicago
BEGIN:VTIMEZONE
TZID:US/Central
X-LIC-LOCATION:America/Chicago
BEGIN:DAYLIGHT
TZOFFSETFROM:-0600
TZOFFSETTO:-0500
TZNAME:CDT
DTSTART:19700308T020000
RRULE:FREQ=YEARLY;BYMONTH=3;BYDAY=2SU
END:DAYLIGHT
BEGIN:STANDARD
TZOFFSETFROM:-0500
TZOFFSETTO:-0600
TZNAME:CST
DTSTART:19701101T020000
RRULE:FREQ=YEARLY;BYMONTH=11;BYDAY=1SU
END:STANDARD
END:VTIMEZONE
BEGIN:VEVENT
DTSTART;TZID=US/Central:20240410T120000
DTEND;VALUE=DATE-TIME;TZID=US/Central:20240410T131500

DTSTAMP:20260419T141900Z
CREATED:20240401T154800Z
LAST-MODIFIED:20240405T173600Z
UID:20240410T120000-77447@law.utexas.edu
SUMMARY:Power Lunch with Sara Moss
DESCRIPTION:<p>Judge Nancy Atlas, retired U.S. District Judge, will host a conversation with Sara Moss, former Executive Vice President and General Counsel of The Estée Lauder Companies.  </p>
  <p>During this conversation, they will discuss their legal careers, including Judge Atlas’s path to the bench and Ms. Moss’s path to becoming General Counsel and Chair of the Board for Estee Lauder.  They will also discuss women in the legal profession and how opportunities have changed over time.  </p>
  <p>Moss will address the role of the general counsel in providing both legal and strategic advice and driving culture change within an organization.</p>
  <p>Approved for 1 Hour Ethics CLE.</p>\n\nIf you need an accommodation to participate in this event, please contact the event sponsor or the Texas Law Special Events Office at specialevents@law.utexas.edu no later than seven business days prior to the event.
X-ALT-DESC;FMTTYPE=text/html:<p>Judge Nancy Atlas, retired U.S. District Judge, will host a conversation with Sara Moss, former Executive Vice President and General Counsel of The Estée Lauder Companies.  </p>
  <p>During this conversation, they will discuss their legal careers, including Judge Atlas’s path to the bench and Ms. Moss’s path to becoming General Counsel and Chair of the Board for Estee Lauder.  They will also discuss women in the legal profession and how opportunities have changed over time.  </p>
  <p>Moss will address the role of the general counsel in providing both legal and strategic advice and driving culture change within an organization.</p>
  <p>Approved for 1 Hour Ethics CLE.</p><p>If you need an accommodation to participate in this event, please contact the event
                                          event sponsor or the Texas Law Special Events Office at <a href="mailto:specialevents@law.utexas.edu">specialevents@law.utexas.edu</a> no later than seven business days prior to the event.</p>
CATEGORIES:Lunch
LOCATION:CCJ 2.306 - Eidman Courtroom
URL:http://law.utexas.edu/calendar/2024/04/10/77447/
CLASS:PUBLIC
STATUS:CONFIRMED

END:VEVENT
END:VCALENDAR