BEGIN:VCALENDAR
VERSION:2.0
PRODID:-//UNIVERSITY OF TEXAS SCHOOL OF LAW//NONSGML Events Calendar v1.0//EN
X-WR-TIMEZONE:America/Chicago
BEGIN:VTIMEZONE
TZID:US/Central
X-LIC-LOCATION:America/Chicago
BEGIN:DAYLIGHT
TZOFFSETFROM:-0600
TZOFFSETTO:-0500
TZNAME:CDT
DTSTART:19700308T020000
RRULE:FREQ=YEARLY;BYMONTH=3;BYDAY=2SU
END:DAYLIGHT
BEGIN:STANDARD
TZOFFSETFROM:-0500
TZOFFSETTO:-0600
TZNAME:CST
DTSTART:19701101T020000
RRULE:FREQ=YEARLY;BYMONTH=11;BYDAY=1SU
END:STANDARD
END:VTIMEZONE
BEGIN:VEVENT
DTSTART;TZID=US/Central:20240513T114500
DTEND;VALUE=DATE-TIME;TZID=US/Central:20240513T131500

DTSTAMP:20260419T115500Z
CREATED:20240320T135800Z
LAST-MODIFIED:20240320T135900Z
UID:20240513T114500-77287@law.utexas.edu
SUMMARY:Chalkboard
DESCRIPTION:<p><a href="https://utexas.zoom.us/j/91692089861?pwd=cXVocG96ckdsSXQ0NVFHL2JKRno4UT09">https://utexas.zoom.us/j/91692089861?pwd=cXVocG96ckdsSXQ0NVFHL2JKRno4UT09</a></p>
  <p>Meeting ID: 916 9208 9861
  Passcode: 535326</p>
  <p>One tap mobile
  +13462487799,,91692089861# US (Houston)
  +17193594580,,91692089861# US</p>
  <p>Dial by your location
  • +1 346 248 7799 US (Houston)
  • +1 719 359 4580 US
  </p>\n\nIf you need an accommodation to participate in this event, please contact the event sponsor or the Texas Law Special Events Office at specialevents@law.utexas.edu no later than seven business days prior to the event. Speaker: Susan C. Morse, Associate Dean for Academic Affairs, University of Texas
X-ALT-DESC;FMTTYPE=text/html:<p><a href="https://utexas.zoom.us/j/91692089861?pwd=cXVocG96ckdsSXQ0NVFHL2JKRno4UT09">https://utexas.zoom.us/j/91692089861?pwd=cXVocG96ckdsSXQ0NVFHL2JKRno4UT09</a></p>
  <p>Meeting ID: 916 9208 9861
  Passcode: 535326</p>
  <p>One tap mobile
  +13462487799,,91692089861# US (Houston)
  +17193594580,,91692089861# US</p>
  <p>Dial by your location
  • +1 346 248 7799 US (Houston)
  • +1 719 359 4580 US
  </p><p>If you need an accommodation to participate in this event, please contact the event
                                          event sponsor or the Texas Law Special Events Office at <a href="mailto:specialevents@law.utexas.edu">specialevents@law.utexas.edu</a> no later than seven business days prior to the event.</p> Speaker: Susan C. Morse, Associate Dean for Academic Affairs, University of Texas


URL:http://law.utexas.edu/calendar/2024/05/13/77287/
CLASS:PUBLIC
STATUS:CONFIRMED

END:VEVENT
END:VCALENDAR