BEGIN:VCALENDAR
VERSION:2.0
PRODID:-//UNIVERSITY OF TEXAS SCHOOL OF LAW//NONSGML Events Calendar v1.0//EN
X-WR-TIMEZONE:America/Chicago
BEGIN:VTIMEZONE
TZID:US/Central
X-LIC-LOCATION:America/Chicago
BEGIN:DAYLIGHT
TZOFFSETFROM:-0600
TZOFFSETTO:-0500
TZNAME:CDT
DTSTART:19700308T020000
RRULE:FREQ=YEARLY;BYMONTH=3;BYDAY=2SU
END:DAYLIGHT
BEGIN:STANDARD
TZOFFSETFROM:-0500
TZOFFSETTO:-0600
TZNAME:CST
DTSTART:19701101T020000
RRULE:FREQ=YEARLY;BYMONTH=11;BYDAY=1SU
END:STANDARD
END:VTIMEZONE
BEGIN:VEVENT
DTSTART;TZID=US/Central:20240518T090000
DTEND;VALUE=DATE-TIME;TZID=US/Central:20240518T163000

DTSTAMP:20260419T180300Z
CREATED:20240416T154800Z
LAST-MODIFIED:20240416T154800Z
UID:20240518T090000-77547@law.utexas.edu
SUMMARY:Gamma Cohort 1st Academy
DESCRIPTION:<p>The Cohort Program consists of four (4) weekend academies that take place in-person at Texas Law over the course of the one-year program and an LSAT preparation course that will take place online over the summer.  </p>
  <p>In this first of four Saturday Academies, Cohort Members are officially welcomed into the Cohort and will participate in team building activities, begin  LSAT preparation with 7Sage, and are welcomed by Dean Chesney to Texas Law.</p>\n\nIf you need an accommodation to participate in this event, please contact the event sponsor or the Texas Law Special Events Office at specialevents@law.utexas.edu no later than seven business days prior to the event.
X-ALT-DESC;FMTTYPE=text/html:<p>The Cohort Program consists of four (4) weekend academies that take place in-person at Texas Law over the course of the one-year program and an LSAT preparation course that will take place online over the summer.  </p>
  <p>In this first of four Saturday Academies, Cohort Members are officially welcomed into the Cohort and will participate in team building activities, begin  LSAT preparation with 7Sage, and are welcomed by Dean Chesney to Texas Law.</p><p>If you need an accommodation to participate in this event, please contact the event
                                          event sponsor or the Texas Law Special Events Office at <a href="mailto:specialevents@law.utexas.edu">specialevents@law.utexas.edu</a> no later than seven business days prior to the event.</p>
CATEGORIES:Workshop / Training Program

URL:http://law.utexas.edu/calendar/2024/05/18/77547/
CLASS:PUBLIC
STATUS:CONFIRMED
COMMENT:pipeline@law.utexas.edu
END:VEVENT
END:VCALENDAR