BEGIN:VCALENDAR
VERSION:2.0
PRODID:-//UNIVERSITY OF TEXAS SCHOOL OF LAW//NONSGML Events Calendar v1.0//EN
X-WR-TIMEZONE:America/Chicago
BEGIN:VTIMEZONE
TZID:US/Central
X-LIC-LOCATION:America/Chicago
BEGIN:DAYLIGHT
TZOFFSETFROM:-0600
TZOFFSETTO:-0500
TZNAME:CDT
DTSTART:19700308T020000
RRULE:FREQ=YEARLY;BYMONTH=3;BYDAY=2SU
END:DAYLIGHT
BEGIN:STANDARD
TZOFFSETFROM:-0500
TZOFFSETTO:-0600
TZNAME:CST
DTSTART:19701101T020000
RRULE:FREQ=YEARLY;BYMONTH=11;BYDAY=1SU
END:STANDARD
END:VTIMEZONE
BEGIN:VEVENT
DTSTART;TZID=US/Central:20240827T120000
DTEND;VALUE=DATE-TIME;TZID=US/Central:20240827T125000

DTSTAMP:20260419T141700Z
CREATED:20240424T152400Z
LAST-MODIFIED:20240815T162700Z
UID:20240827T120000-77647@law.utexas.edu
SUMMARY:Opening Statement How To
DESCRIPTION:<p>In preparation for the upcoming interscholastic mock trial team tryouts, Professor Mike Golden will hold a 50-minute session on how to do an opening statement.  The session will be recorded and posted on the Interscholastic Mock Trial (IMT) Canvas site for those students who are interested but unable to attend in-person.  </p>
  <p>If you would like to be added to the IMT Canvas site, please contact Marla Massin, mmassin@law.utexas.edu. </p>\n\nIf you need an accommodation to participate in this event, please contact the event sponsor or the Texas Law Special Events Office at specialevents@law.utexas.edu no later than seven business days prior to the event.
X-ALT-DESC;FMTTYPE=text/html:<p>In preparation for the upcoming interscholastic mock trial team tryouts, Professor Mike Golden will hold a 50-minute session on how to do an opening statement.  The session will be recorded and posted on the Interscholastic Mock Trial (IMT) Canvas site for those students who are interested but unable to attend in-person.  </p>
  <p>If you would like to be added to the IMT Canvas site, please contact Marla Massin, mmassin@law.utexas.edu. </p><p>If you need an accommodation to participate in this event, please contact the event
                                          event sponsor or the Texas Law Special Events Office at <a href="mailto:specialevents@law.utexas.edu">specialevents@law.utexas.edu</a> no later than seven business days prior to the event.</p>
CATEGORIES:Other
LOCATION:TNH 3.140 - Jeffers Courtroom
URL:http://law.utexas.edu/calendar/2024/08/27/77647/
CLASS:PUBLIC
STATUS:CONFIRMED
COMMENT:Email Marla Massin at mmassin@law.utexas.edu
END:VEVENT
END:VCALENDAR