BEGIN:VCALENDAR
VERSION:2.0
PRODID:-//UNIVERSITY OF TEXAS SCHOOL OF LAW//NONSGML Events Calendar v1.0//EN
X-WR-TIMEZONE:America/Chicago
BEGIN:VTIMEZONE
TZID:US/Central
X-LIC-LOCATION:America/Chicago
BEGIN:DAYLIGHT
TZOFFSETFROM:-0600
TZOFFSETTO:-0500
TZNAME:CDT
DTSTART:19700308T020000
RRULE:FREQ=YEARLY;BYMONTH=3;BYDAY=2SU
END:DAYLIGHT
BEGIN:STANDARD
TZOFFSETFROM:-0500
TZOFFSETTO:-0600
TZNAME:CST
DTSTART:19701101T020000
RRULE:FREQ=YEARLY;BYMONTH=11;BYDAY=1SU
END:STANDARD
END:VTIMEZONE
BEGIN:VEVENT
DTSTART;TZID=US/Central:20240919T115000
DTEND;VALUE=DATE-TIME;TZID=US/Central:20240919T125000

DTSTAMP:20260419T155500Z
CREATED:20240831T223600Z
LAST-MODIFIED:20240917T221700Z
UID:20240919T115000-78970@law.utexas.edu
SUMMARY:I/W/H Welcome Event
DESCRIPTION:<p>Come meet members of Texas Law's If/When/How - the reproductive justice organization on campus! This organization advocates for women and uterus-owners to determine if, when, and how they want to have children - on their terms. If you are passionate about abortion law and pregnancy discrimination, and you want to get plugged into the campus and community movements for justice, come through! There will be food. :)</p>\n\nIf you need an accommodation to participate in this event, please contact the event sponsor or the Texas Law Special Events Office at specialevents@law.utexas.edu no later than seven business days prior to the event.
X-ALT-DESC;FMTTYPE=text/html:<p>Come meet members of Texas Law's If/When/How - the reproductive justice organization on campus! This organization advocates for women and uterus-owners to determine if, when, and how they want to have children - on their terms. If you are passionate about abortion law and pregnancy discrimination, and you want to get plugged into the campus and community movements for justice, come through! There will be food. :)</p><p>If you need an accommodation to participate in this event, please contact the event
                                          event sponsor or the Texas Law Special Events Office at <a href="mailto:specialevents@law.utexas.edu">specialevents@law.utexas.edu</a> no later than seven business days prior to the event.</p>
CATEGORIES:Lunch
LOCATION: GEORGES-PATIO - George’s Café Patio
URL:http://law.utexas.edu/calendar/2024/09/19/78970/
CLASS:PUBLIC
STATUS:CONFIRMED

END:VEVENT
END:VCALENDAR