BEGIN:VCALENDAR
VERSION:2.0
PRODID:-//UNIVERSITY OF TEXAS SCHOOL OF LAW//NONSGML Events Calendar v1.0//EN
X-WR-TIMEZONE:America/Chicago
BEGIN:VTIMEZONE
TZID:US/Central
X-LIC-LOCATION:America/Chicago
BEGIN:DAYLIGHT
TZOFFSETFROM:-0600
TZOFFSETTO:-0500
TZNAME:CDT
DTSTART:19700308T020000
RRULE:FREQ=YEARLY;BYMONTH=3;BYDAY=2SU
END:DAYLIGHT
BEGIN:STANDARD
TZOFFSETFROM:-0500
TZOFFSETTO:-0600
TZNAME:CST
DTSTART:19701101T020000
RRULE:FREQ=YEARLY;BYMONTH=11;BYDAY=1SU
END:STANDARD
END:VTIMEZONE
BEGIN:VEVENT
DTSTART;TZID=US/Central:20240920T090000
DTEND;VALUE=DATE-TIME;TZID=US/Central:20240920T150000

DTSTAMP:20260419T150600Z
CREATED:20240911T230900Z
LAST-MODIFIED:20240917T223400Z
UID:20240920T090000-79069@law.utexas.edu
SUMMARY:Assault &amp; Flattery Auditions
DESCRIPTION:<p>Try out for the student written, student directed, and student produced parody musical. This year is a parody of 21 Jump Street. Prior experience in theatre not required! If acting isn’t your jam, but you like to sing, try out for our a cappella group, Supreme Chorus. If you don’t want to do either of those, but you play an instrument, try out for our live band, Sex Parte. If you’ve read all of this and thought, “None of that,” but you still want to be involved, sign up anyway to work on our tech team behind stage. Ultimately, there’s something for everyone here, so why haven’t you signed up yet!? Oh, you need a link. Got it. Here you go: <a href="https://tinyurl.com/24ysrs6u">https://tinyurl.com/24ysrs6u</a></p>
  <p>Contact Sydney Sterrett at sydneymsterrett@utexas.edu if no open times work for you and you’d still like to audition.</p>\n\nIf you need an accommodation to participate in this event, please contact the event sponsor or the Texas Law Special Events Office at specialevents@law.utexas.edu no later than seven business days prior to the event.
X-ALT-DESC;FMTTYPE=text/html:<p>Try out for the student written, student directed, and student produced parody musical. This year is a parody of 21 Jump Street. Prior experience in theatre not required! If acting isn’t your jam, but you like to sing, try out for our a cappella group, Supreme Chorus. If you don’t want to do either of those, but you play an instrument, try out for our live band, Sex Parte. If you’ve read all of this and thought, “None of that,” but you still want to be involved, sign up anyway to work on our tech team behind stage. Ultimately, there’s something for everyone here, so why haven’t you signed up yet!? Oh, you need a link. Got it. Here you go: <a href="https://tinyurl.com/24ysrs6u">https://tinyurl.com/24ysrs6u</a></p>
  <p>Contact Sydney Sterrett at sydneymsterrett@utexas.edu if no open times work for you and you’d still like to audition.</p><p>If you need an accommodation to participate in this event, please contact the event
                                          event sponsor or the Texas Law Special Events Office at <a href="mailto:specialevents@law.utexas.edu">specialevents@law.utexas.edu</a> no later than seven business days prior to the event.</p>
CATEGORIES:Other
LOCATION:TNH 2.114 - Francis Auditorium
URL:http://law.utexas.edu/calendar/2024/09/20/79069/
CLASS:PUBLIC
STATUS:CONFIRMED
COMMENT:Contact Sydney Sterrett at sydneymsterrett@utexas.edu
END:VEVENT
END:VCALENDAR