BEGIN:VCALENDAR
VERSION:2.0
PRODID:-//UNIVERSITY OF TEXAS SCHOOL OF LAW//NONSGML Events Calendar v1.0//EN
X-WR-TIMEZONE:America/Chicago
BEGIN:VTIMEZONE
TZID:US/Central
X-LIC-LOCATION:America/Chicago
BEGIN:DAYLIGHT
TZOFFSETFROM:-0600
TZOFFSETTO:-0500
TZNAME:CDT
DTSTART:19700308T020000
RRULE:FREQ=YEARLY;BYMONTH=3;BYDAY=2SU
END:DAYLIGHT
BEGIN:STANDARD
TZOFFSETFROM:-0500
TZOFFSETTO:-0600
TZNAME:CST
DTSTART:19701101T020000
RRULE:FREQ=YEARLY;BYMONTH=11;BYDAY=1SU
END:STANDARD
END:VTIMEZONE
BEGIN:VEVENT
DTSTART;TZID=US/Central:20240928T120000
DTEND;VALUE=DATE-TIME;TZID=US/Central:20240928T140000

DTSTAMP:20260419T152800Z
CREATED:20240910T200400Z
LAST-MODIFIED:20240917T222900Z
UID:20240928T120000-79063@law.utexas.edu
SUMMARY:Longhorn PALS Tailgate
DESCRIPTION:<p>Tailgate on George's Patio to bring Plaintiffs' side attorneys and interested students together to celebrate Longhorn Football's debut in the SEC. </p>
  <p>Note that kickoff for the game hasn't been announced yet so I put noon - 2 for now but that might need to be adjusted down the line. </p>\n\nIf you need an accommodation to participate in this event, please contact the event sponsor or the Texas Law Special Events Office at specialevents@law.utexas.edu no later than seven business days prior to the event.
X-ALT-DESC;FMTTYPE=text/html:<p>Tailgate on George's Patio to bring Plaintiffs' side attorneys and interested students together to celebrate Longhorn Football's debut in the SEC. </p>
  <p>Note that kickoff for the game hasn't been announced yet so I put noon - 2 for now but that might need to be adjusted down the line. </p><p>If you need an accommodation to participate in this event, please contact the event
                                          event sponsor or the Texas Law Special Events Office at <a href="mailto:specialevents@law.utexas.edu">specialevents@law.utexas.edu</a> no later than seven business days prior to the event.</p>
CATEGORIES:Reception
LOCATION: GEORGES-PATIO - George’s Café Patio
URL:http://law.utexas.edu/calendar/2024/09/28/79063/
CLASS:PUBLIC
STATUS:CONFIRMED

END:VEVENT
END:VCALENDAR