BEGIN:VCALENDAR
VERSION:2.0
PRODID:-//UNIVERSITY OF TEXAS SCHOOL OF LAW//NONSGML Events Calendar v1.0//EN
X-WR-TIMEZONE:America/Chicago
BEGIN:VTIMEZONE
TZID:US/Central
X-LIC-LOCATION:America/Chicago
BEGIN:DAYLIGHT
TZOFFSETFROM:-0600
TZOFFSETTO:-0500
TZNAME:CDT
DTSTART:19700308T020000
RRULE:FREQ=YEARLY;BYMONTH=3;BYDAY=2SU
END:DAYLIGHT
BEGIN:STANDARD
TZOFFSETFROM:-0500
TZOFFSETTO:-0600
TZNAME:CST
DTSTART:19701101T020000
RRULE:FREQ=YEARLY;BYMONTH=11;BYDAY=1SU
END:STANDARD
END:VTIMEZONE
BEGIN:VEVENT
DTSTART;TZID=US/Central:20241003T115000
DTEND;VALUE=DATE-TIME;TZID=US/Central:20241003T140000

DTSTAMP:20260419T161300Z
CREATED:20240918T131800Z
LAST-MODIFIED:20240918T212200Z
UID:20241003T115000-79176@law.utexas.edu
SUMMARY:The Story of Clinton Young
DESCRIPTION:<p>From Execution Date to Release Date: The Story of Clinton Young</p>
  <p>Join us for an eye-opening conversation with Clinton Young, a former Texas death row inmate who spent 18 years in solitary confinement for a crime he insists he didn’t commit. Convicted of two murders at the age of 19, Clinton was sentenced to death in 2003, largely based on the testimony of his co-defendants—testimony that was later proven false.</p>
  <p>In September 2021, Clinton’s conviction and death sentence were overturned by the Texas Court of Criminal Appeals due to shocking prosecutorial misconduct. The prosecutor, while working on Clinton’s case, was also secretly serving as a law clerk for the judges who presided over the trial. This blatant violation of due process led to Clinton's release on bond in January 2022, making him the first former death row inmate to secure release on bond. He now awaits a new trial.</p>
  <p>This event offers an extraordinary opportunity to learn about the flaws in the criminal justice system, wrongful convictions, and the fight for justice. Clinton’s case exemplifies critical legal issues surrounding due process violations, prosecutorial misconduct, and the resilience required to survive on death row.</p>
  <p>Don’t miss this powerful session that will provide unique insight into the life of someone wrongfully convicted and highlight the crucial role lawyers play in fighting for justice.</p>
  <p>**Food will be provided**</p>
  <p>Date: October 3, 2024
  Time: 11:50 AM - 2:00 PM
  Location: CCJ 2.306 - Eidman Courtroom
  Hosted by: The Capital Punishment Clinic/Center</p>\n\nIf you need an accommodation to participate in this event, please contact the event sponsor or the Texas Law Special Events Office at specialevents@law.utexas.edu no later than seven business days prior to the event.
X-ALT-DESC;FMTTYPE=text/html:<p>From Execution Date to Release Date: The Story of Clinton Young</p>
  <p>Join us for an eye-opening conversation with Clinton Young, a former Texas death row inmate who spent 18 years in solitary confinement for a crime he insists he didn’t commit. Convicted of two murders at the age of 19, Clinton was sentenced to death in 2003, largely based on the testimony of his co-defendants—testimony that was later proven false.</p>
  <p>In September 2021, Clinton’s conviction and death sentence were overturned by the Texas Court of Criminal Appeals due to shocking prosecutorial misconduct. The prosecutor, while working on Clinton’s case, was also secretly serving as a law clerk for the judges who presided over the trial. This blatant violation of due process led to Clinton's release on bond in January 2022, making him the first former death row inmate to secure release on bond. He now awaits a new trial.</p>
  <p>This event offers an extraordinary opportunity to learn about the flaws in the criminal justice system, wrongful convictions, and the fight for justice. Clinton’s case exemplifies critical legal issues surrounding due process violations, prosecutorial misconduct, and the resilience required to survive on death row.</p>
  <p>Don’t miss this powerful session that will provide unique insight into the life of someone wrongfully convicted and highlight the crucial role lawyers play in fighting for justice.</p>
  <p>**Food will be provided**</p>
  <p>Date: October 3, 2024
  Time: 11:50 AM - 2:00 PM
  Location: CCJ 2.306 - Eidman Courtroom
  Hosted by: The Capital Punishment Clinic/Center</p><p>If you need an accommodation to participate in this event, please contact the event
                                          event sponsor or the Texas Law Special Events Office at <a href="mailto:specialevents@law.utexas.edu">specialevents@law.utexas.edu</a> no later than seven business days prior to the event.</p>
CATEGORIES:Panel Discussion / Speaker Series
LOCATION:CCJ 2.306 - Eidman Courtroom
URL:http://law.utexas.edu/calendar/2024/10/03/79176/
CLASS:PUBLIC
STATUS:CONFIRMED

END:VEVENT
END:VCALENDAR