BEGIN:VCALENDAR
VERSION:2.0
PRODID:-//UNIVERSITY OF TEXAS SCHOOL OF LAW//NONSGML Events Calendar v1.0//EN
X-WR-TIMEZONE:America/Chicago
BEGIN:VTIMEZONE
TZID:US/Central
X-LIC-LOCATION:America/Chicago
BEGIN:DAYLIGHT
TZOFFSETFROM:-0600
TZOFFSETTO:-0500
TZNAME:CDT
DTSTART:19700308T020000
RRULE:FREQ=YEARLY;BYMONTH=3;BYDAY=2SU
END:DAYLIGHT
BEGIN:STANDARD
TZOFFSETFROM:-0500
TZOFFSETTO:-0600
TZNAME:CST
DTSTART:19701101T020000
RRULE:FREQ=YEARLY;BYMONTH=11;BYDAY=1SU
END:STANDARD
END:VTIMEZONE
BEGIN:VEVENT
DTSTART;TZID=US/Central:20241021T114500
DTEND;VALUE=DATE-TIME;TZID=US/Central:20241021T125000

DTSTAMP:20260419T135300Z
CREATED:20240806T021600Z
LAST-MODIFIED:20240812T211000Z
UID:20241021T114500-78392@law.utexas.edu
SUMMARY:IP Student Panel
DESCRIPTION:<p>TIPLJ and IPLS will be hosting a panel of students who have spent their summers working in different areas of Intellectual Property Law.  The students will answer questions about getting jobs, networking, and what things to focus on heading into Final Exams.  </p>\n\nIf you need an accommodation to participate in this event, please contact the event sponsor or the Texas Law Special Events Office at specialevents@law.utexas.edu no later than seven business days prior to the event.
X-ALT-DESC;FMTTYPE=text/html:<p>TIPLJ and IPLS will be hosting a panel of students who have spent their summers working in different areas of Intellectual Property Law.  The students will answer questions about getting jobs, networking, and what things to focus on heading into Final Exams.  </p><p>If you need an accommodation to participate in this event, please contact the event
                                          event sponsor or the Texas Law Special Events Office at <a href="mailto:specialevents@law.utexas.edu">specialevents@law.utexas.edu</a> no later than seven business days prior to the event.</p>

LOCATION:TNH 3.125 - Denius Classroom
URL:http://law.utexas.edu/calendar/2024/10/21/78392/
CLASS:PUBLIC
STATUS:CONFIRMED

END:VEVENT
END:VCALENDAR