BEGIN:VCALENDAR
VERSION:2.0
PRODID:-//UNIVERSITY OF TEXAS SCHOOL OF LAW//NONSGML Events Calendar v1.0//EN
X-WR-TIMEZONE:America/Chicago
BEGIN:VTIMEZONE
TZID:US/Central
X-LIC-LOCATION:America/Chicago
BEGIN:DAYLIGHT
TZOFFSETFROM:-0600
TZOFFSETTO:-0500
TZNAME:CDT
DTSTART:19700308T020000
RRULE:FREQ=YEARLY;BYMONTH=3;BYDAY=2SU
END:DAYLIGHT
BEGIN:STANDARD
TZOFFSETFROM:-0500
TZOFFSETTO:-0600
TZNAME:CST
DTSTART:19701101T020000
RRULE:FREQ=YEARLY;BYMONTH=11;BYDAY=1SU
END:STANDARD
END:VTIMEZONE
BEGIN:VEVENT
DTSTART;TZID=US/Central:20241023T115000
DTEND;VALUE=DATE-TIME;TZID=US/Central:20241023T125000

DTSTAMP:20260419T150900Z
CREATED:20240823T004800Z
LAST-MODIFIED:20240825T231100Z
UID:20241023T115000-78805@law.utexas.edu
SUMMARY:Latinx Judicial Panel
DESCRIPTION:<p>Join CHLLSA and several distinguished judges from the Central Texas region for a panel discussion about their progressive work and their law school and legal experiences as first-generation Latinos. Panelists include Judge Bianca Garcia (misdemeanor criminal court), Judge Brad Urrutia (felony criminal court), Judge Maria Cantu Hexsel (civil district court), and Justice Gisela Triana (3rd Court of Appeals). The panel is moderated by Jackson Walker's Josh Romero. </p>\n\nIf you need an accommodation to participate in this event, please contact the event sponsor or the Texas Law Special Events Office at specialevents@law.utexas.edu no later than seven business days prior to the event.
X-ALT-DESC;FMTTYPE=text/html:<p>Join CHLLSA and several distinguished judges from the Central Texas region for a panel discussion about their progressive work and their law school and legal experiences as first-generation Latinos. Panelists include Judge Bianca Garcia (misdemeanor criminal court), Judge Brad Urrutia (felony criminal court), Judge Maria Cantu Hexsel (civil district court), and Justice Gisela Triana (3rd Court of Appeals). The panel is moderated by Jackson Walker's Josh Romero. </p><p>If you need an accommodation to participate in this event, please contact the event
                                          event sponsor or the Texas Law Special Events Office at <a href="mailto:specialevents@law.utexas.edu">specialevents@law.utexas.edu</a> no later than seven business days prior to the event.</p>
CATEGORIES:Panel Discussion / Speaker Series
LOCATION:TNH 2.138 - Blanton Classroom
URL:http://law.utexas.edu/calendar/2024/10/23/78805/
CLASS:PUBLIC
STATUS:CONFIRMED

END:VEVENT
END:VCALENDAR