BEGIN:VCALENDAR
VERSION:2.0
PRODID:-//UNIVERSITY OF TEXAS SCHOOL OF LAW//NONSGML Events Calendar v1.0//EN
X-WR-TIMEZONE:America/Chicago
BEGIN:VTIMEZONE
TZID:US/Central
X-LIC-LOCATION:America/Chicago
BEGIN:DAYLIGHT
TZOFFSETFROM:-0600
TZOFFSETTO:-0500
TZNAME:CDT
DTSTART:19700308T020000
RRULE:FREQ=YEARLY;BYMONTH=3;BYDAY=2SU
END:DAYLIGHT
BEGIN:STANDARD
TZOFFSETFROM:-0500
TZOFFSETTO:-0600
TZNAME:CST
DTSTART:19701101T020000
RRULE:FREQ=YEARLY;BYMONTH=11;BYDAY=1SU
END:STANDARD
END:VTIMEZONE
BEGIN:VEVENT
DTSTART;TZID=US/Central:20241024T160000
DTEND;VALUE=DATE-TIME;TZID=US/Central:20241024T180000

DTSTAMP:20260419T155600Z
CREATED:20240830T173100Z
LAST-MODIFIED:20240926T011300Z
UID:20241024T160000-78919@law.utexas.edu
SUMMARY:Foley Lardner and WLC Chocolate Tasting
DESCRIPTION:<p>Foley Lardner &amp; Women's Law Caucus Chocolate Tasting</p>
  <p>Mix and Mingle with attorneys from Foley &amp; Lardner.</p>
  <p>Join WLC for Chocolate Tasting and fun!</p>\n\nIf you need an accommodation to participate in this event, please contact the event sponsor or the Texas Law Special Events Office at specialevents@law.utexas.edu no later than seven business days prior to the event.
X-ALT-DESC;FMTTYPE=text/html:<p>Foley Lardner &amp; Women's Law Caucus Chocolate Tasting</p>
  <p>Mix and Mingle with attorneys from Foley &amp; Lardner.</p>
  <p>Join WLC for Chocolate Tasting and fun!</p><p>If you need an accommodation to participate in this event, please contact the event
                                          event sponsor or the Texas Law Special Events Office at <a href="mailto:specialevents@law.utexas.edu">specialevents@law.utexas.edu</a> no later than seven business days prior to the event.</p>
CATEGORIES:Dinner
LOCATION:TNH 2.111 - Sheffield-Massey Room
URL:http://law.utexas.edu/calendar/2024/10/24/78919/
CLASS:PUBLIC
STATUS:CONFIRMED

END:VEVENT
END:VCALENDAR