BEGIN:VCALENDAR
VERSION:2.0
PRODID:-//UNIVERSITY OF TEXAS SCHOOL OF LAW//NONSGML Events Calendar v1.0//EN
X-WR-TIMEZONE:America/Chicago
BEGIN:VTIMEZONE
TZID:US/Central
X-LIC-LOCATION:America/Chicago
BEGIN:DAYLIGHT
TZOFFSETFROM:-0600
TZOFFSETTO:-0500
TZNAME:CDT
DTSTART:19700308T020000
RRULE:FREQ=YEARLY;BYMONTH=3;BYDAY=2SU
END:DAYLIGHT
BEGIN:STANDARD
TZOFFSETFROM:-0500
TZOFFSETTO:-0600
TZNAME:CST
DTSTART:19701101T020000
RRULE:FREQ=YEARLY;BYMONTH=11;BYDAY=1SU
END:STANDARD
END:VTIMEZONE
BEGIN:VEVENT
DTSTART;TZID=US/Central:20241104T160000
DTEND;VALUE=DATE-TIME;TZID=US/Central:20241104T174500

DTSTAMP:20260419T182200Z
CREATED:20240801T155700Z
LAST-MODIFIED:20240830T160800Z
UID:20241104T160000-78351@law.utexas.edu
SUMMARY:Repro Justice Colloquium: Wendy Bach
DESCRIPTION:<p>This speaker series considers the criminalization of reproduction—historical and contemporary, local and global—largely through the lens of reproductive justice.</p><p> <a href="https://utexas.qualtrics.com/jfe/form/SV_bKNP6RxfpG2I4l0"><strong>RSVP</strong></a></p>
  <p>Abstract: This talk will present the preliminary findings of a national research study tracking prosecutions for pregnancy-related conduct in the first year after the Supreme Court’s decision in Dobbs v. Jackson Women’s Health Organization. It will contextualize them within larger conversations about pregnancy criminalization and the relationships among victimhood, care, and punishment in U.S. criminal systems.</p>
  <p><a href="https://law.utk.edu/directory/wendy-bach/">Wendy Bach</a> is a Professor of Law and co-Director of the Appalachian Justice Research Center at the University of Tennessee College of Law. Her research focuses on the intersection of poverty law, criminal law, social welfare provision, law and society, and community lawyering. Professor Bach is the author of a number of law review articles and Prosecuting Poverty, Criminalizing Care (Cambridge University Press, 2022). She is currently leading a national study of the criminalization of pregnancy in a post-Dobbs world. She received a J.D. from the New York University School of Law, as well as an M.A. and a B.A. from the University of Pennsylvania.</p>\n\nIf you need an accommodation to participate in this event, please contact the event sponsor or the Texas Law Special Events Office at specialevents@law.utexas.edu no later than seven business days prior to the event.
X-ALT-DESC;FMTTYPE=text/html:<p>This speaker series considers the criminalization of reproduction—historical and contemporary, local and global—largely through the lens of reproductive justice.</p><p> <a href="https://utexas.qualtrics.com/jfe/form/SV_bKNP6RxfpG2I4l0"><strong>RSVP</strong></a></p>
  <p>Abstract: This talk will present the preliminary findings of a national research study tracking prosecutions for pregnancy-related conduct in the first year after the Supreme Court’s decision in Dobbs v. Jackson Women’s Health Organization. It will contextualize them within larger conversations about pregnancy criminalization and the relationships among victimhood, care, and punishment in U.S. criminal systems.</p>
  <p><a href="https://law.utk.edu/directory/wendy-bach/">Wendy Bach</a> is a Professor of Law and co-Director of the Appalachian Justice Research Center at the University of Tennessee College of Law. Her research focuses on the intersection of poverty law, criminal law, social welfare provision, law and society, and community lawyering. Professor Bach is the author of a number of law review articles and Prosecuting Poverty, Criminalizing Care (Cambridge University Press, 2022). She is currently leading a national study of the criminalization of pregnancy in a post-Dobbs world. She received a J.D. from the New York University School of Law, as well as an M.A. and a B.A. from the University of Pennsylvania.</p><p>If you need an accommodation to participate in this event, please contact the event
                                          event sponsor or the Texas Law Special Events Office at <a href="mailto:specialevents@law.utexas.edu">specialevents@law.utexas.edu</a> no later than seven business days prior to the event.</p>

LOCATION:TNH 2.111 - Sheffield-Massey Room
URL:http://law.utexas.edu/calendar/2024/11/04/78351/
CLASS:PUBLIC
STATUS:CONFIRMED
COMMENT:carolinehahn@austin.utexas.edu
END:VEVENT
END:VCALENDAR