BEGIN:VCALENDAR
VERSION:2.0
PRODID:-//UNIVERSITY OF TEXAS SCHOOL OF LAW//NONSGML Events Calendar v1.0//EN
X-WR-TIMEZONE:America/Chicago
BEGIN:VTIMEZONE
TZID:US/Central
X-LIC-LOCATION:America/Chicago
BEGIN:DAYLIGHT
TZOFFSETFROM:-0600
TZOFFSETTO:-0500
TZNAME:CDT
DTSTART:19700308T020000
RRULE:FREQ=YEARLY;BYMONTH=3;BYDAY=2SU
END:DAYLIGHT
BEGIN:STANDARD
TZOFFSETFROM:-0500
TZOFFSETTO:-0600
TZNAME:CST
DTSTART:19701101T020000
RRULE:FREQ=YEARLY;BYMONTH=11;BYDAY=1SU
END:STANDARD
END:VTIMEZONE
BEGIN:VEVENT
DTSTART;TZID=US/Central:20241104T115000
DTEND;VALUE=DATE-TIME;TZID=US/Central:20241104T125000

DTSTAMP:20260419T181500Z
CREATED:20240920T013100Z
LAST-MODIFIED:20240920T222700Z
UID:20241104T115000-79231@law.utexas.edu
SUMMARY:GRITS 2025 Planning Session
DESCRIPTION:<p>Interested in progressive lawyering? Join GRITS for our third planning session of the year! There is still time to join -- come learn how you can support panel planners and get involved with this innovative conference :)</p>\n\nIf you need an accommodation to participate in this event, please contact the event sponsor or the Texas Law Special Events Office at specialevents@law.utexas.edu no later than seven business days prior to the event.
X-ALT-DESC;FMTTYPE=text/html:<p>Interested in progressive lawyering? Join GRITS for our third planning session of the year! There is still time to join -- come learn how you can support panel planners and get involved with this innovative conference :)</p><p>If you need an accommodation to participate in this event, please contact the event
                                          event sponsor or the Texas Law Special Events Office at <a href="mailto:specialevents@law.utexas.edu">specialevents@law.utexas.edu</a> no later than seven business days prior to the event.</p>

LOCATION:TNH 3.125 - Denius Classroom
URL:http://law.utexas.edu/calendar/2024/11/04/79231/
CLASS:PUBLIC
STATUS:CONFIRMED

END:VEVENT
END:VCALENDAR