BEGIN:VCALENDAR
VERSION:2.0
PRODID:-//UNIVERSITY OF TEXAS SCHOOL OF LAW//NONSGML Events Calendar v1.0//EN
X-WR-TIMEZONE:America/Chicago
BEGIN:VTIMEZONE
TZID:US/Central
X-LIC-LOCATION:America/Chicago
BEGIN:DAYLIGHT
TZOFFSETFROM:-0600
TZOFFSETTO:-0500
TZNAME:CDT
DTSTART:19700308T020000
RRULE:FREQ=YEARLY;BYMONTH=3;BYDAY=2SU
END:DAYLIGHT
BEGIN:STANDARD
TZOFFSETFROM:-0500
TZOFFSETTO:-0600
TZNAME:CST
DTSTART:19701101T020000
RRULE:FREQ=YEARLY;BYMONTH=11;BYDAY=1SU
END:STANDARD
END:VTIMEZONE
BEGIN:VEVENT
DTSTART;TZID=US/Central:20241104T115000
DTEND;VALUE=DATE-TIME;TZID=US/Central:20241104T125000

DTSTAMP:20260419T173100Z
CREATED:20241101T123500Z
LAST-MODIFIED:20241101T173200Z
UID:20241104T115000-79875@law.utexas.edu
SUMMARY:Adoption &amp; Foster Care in Texas
DESCRIPTION:<p>November is National Adoption Month! Please join Texas Law Students for Life as Andrew Brown, the Vice President of Policy at the Texas Public Policy Foundation, discusses adoption and foster care in Texas. As always, there will be free food for attendees!</p>\n\nIf you need an accommodation to participate in this event, please contact the event sponsor or the Texas Law Special Events Office at specialevents@law.utexas.edu no later than seven business days prior to the event.
X-ALT-DESC;FMTTYPE=text/html:<p>November is National Adoption Month! Please join Texas Law Students for Life as Andrew Brown, the Vice President of Policy at the Texas Public Policy Foundation, discusses adoption and foster care in Texas. As always, there will be free food for attendees!</p><p>If you need an accommodation to participate in this event, please contact the event
                                          event sponsor or the Texas Law Special Events Office at <a href="mailto:specialevents@law.utexas.edu">specialevents@law.utexas.edu</a> no later than seven business days prior to the event.</p>
CATEGORIES:Lunch

URL:http://law.utexas.edu/calendar/2024/11/04/79875/
CLASS:PUBLIC
STATUS:CONFIRMED

END:VEVENT
END:VCALENDAR