BEGIN:VCALENDAR
VERSION:2.0
PRODID:-//UNIVERSITY OF TEXAS SCHOOL OF LAW//NONSGML Events Calendar v1.0//EN
X-WR-TIMEZONE:America/Chicago
BEGIN:VTIMEZONE
TZID:US/Central
X-LIC-LOCATION:America/Chicago
BEGIN:DAYLIGHT
TZOFFSETFROM:-0600
TZOFFSETTO:-0500
TZNAME:CDT
DTSTART:19700308T020000
RRULE:FREQ=YEARLY;BYMONTH=3;BYDAY=2SU
END:DAYLIGHT
BEGIN:STANDARD
TZOFFSETFROM:-0500
TZOFFSETTO:-0600
TZNAME:CST
DTSTART:19701101T020000
RRULE:FREQ=YEARLY;BYMONTH=11;BYDAY=1SU
END:STANDARD
END:VTIMEZONE
BEGIN:VEVENT
DTSTART;TZID=US/Central:20241105T120000
DTEND;VALUE=DATE-TIME;TZID=US/Central:20241105T125000

DTSTAMP:20260419T165300Z
CREATED:20241026T171000Z
LAST-MODIFIED:20241029T021300Z
UID:20241105T120000-79775@law.utexas.edu
SUMMARY:Animal law workshop
DESCRIPTION:<p>Event: How to Get Political for the Animals</p>
  <p>Join us for an enlightening talk with Shelby Bobosky, the Executive Director of the Texas Humane Legislation Network. This organization is dedicated to promoting the humane treatment of animals through legislation, education, and advocacy. Learn how we can work together to prevent animal cruelty and foster a more humane Texas for future generations. Let's create a better tomorrow for animals!</p>\n\nIf you need an accommodation to participate in this event, please contact the event sponsor or the Texas Law Special Events Office at specialevents@law.utexas.edu no later than seven business days prior to the event.
X-ALT-DESC;FMTTYPE=text/html:<p>Event: How to Get Political for the Animals</p>
  <p>Join us for an enlightening talk with Shelby Bobosky, the Executive Director of the Texas Humane Legislation Network. This organization is dedicated to promoting the humane treatment of animals through legislation, education, and advocacy. Learn how we can work together to prevent animal cruelty and foster a more humane Texas for future generations. Let's create a better tomorrow for animals!</p><p>If you need an accommodation to participate in this event, please contact the event
                                          event sponsor or the Texas Law Special Events Office at <a href="mailto:specialevents@law.utexas.edu">specialevents@law.utexas.edu</a> no later than seven business days prior to the event.</p>
CATEGORIES:Lunch
LOCATION:TNH 3.125 - Denius Classroom
URL:http://law.utexas.edu/calendar/2024/11/05/79775/
CLASS:PUBLIC
STATUS:CONFIRMED

END:VEVENT
END:VCALENDAR