BEGIN:VCALENDAR
VERSION:2.0
PRODID:-//UNIVERSITY OF TEXAS SCHOOL OF LAW//NONSGML Events Calendar v1.0//EN
X-WR-TIMEZONE:America/Chicago
BEGIN:VTIMEZONE
TZID:US/Central
X-LIC-LOCATION:America/Chicago
BEGIN:DAYLIGHT
TZOFFSETFROM:-0600
TZOFFSETTO:-0500
TZNAME:CDT
DTSTART:19700308T020000
RRULE:FREQ=YEARLY;BYMONTH=3;BYDAY=2SU
END:DAYLIGHT
BEGIN:STANDARD
TZOFFSETFROM:-0500
TZOFFSETTO:-0600
TZNAME:CST
DTSTART:19701101T020000
RRULE:FREQ=YEARLY;BYMONTH=11;BYDAY=1SU
END:STANDARD
END:VTIMEZONE
BEGIN:VEVENT
DTSTART;TZID=US/Central:20241110T120000
DTEND;VALUE=DATE-TIME;TZID=US/Central:20241110T160000

DTSTAMP:20260419T211700Z
CREATED:20241010T201200Z
LAST-MODIFIED:20241011T211100Z
UID:20241110T120000-79467@law.utexas.edu
SUMMARY:V&amp;E x Barbri x TMLS 1L Exam Strategy
DESCRIPTION:<p>V&amp;E x Barbri x TMLS are hosting a 1L Fall Exam Strategy Workshop! Come meet V&amp;E attorney's, learn about the exam preparation options that Barbri offers, and have lunch!</p>\n\nIf you need an accommodation to participate in this event, please contact the event sponsor or the Texas Law Special Events Office at specialevents@law.utexas.edu no later than seven business days prior to the event.
X-ALT-DESC;FMTTYPE=text/html:<p>V&amp;E x Barbri x TMLS are hosting a 1L Fall Exam Strategy Workshop! Come meet V&amp;E attorney's, learn about the exam preparation options that Barbri offers, and have lunch!</p><p>If you need an accommodation to participate in this event, please contact the event
                                          event sponsor or the Texas Law Special Events Office at <a href="mailto:specialevents@law.utexas.edu">specialevents@law.utexas.edu</a> no later than seven business days prior to the event.</p>

LOCATION:TNH 2.114 - Francis Auditorium
URL:http://law.utexas.edu/calendar/2024/11/10/79467/
CLASS:PUBLIC
STATUS:CONFIRMED

END:VEVENT
END:VCALENDAR