BEGIN:VCALENDAR
VERSION:2.0
PRODID:-//UNIVERSITY OF TEXAS SCHOOL OF LAW//NONSGML Events Calendar v1.0//EN
X-WR-TIMEZONE:America/Chicago
BEGIN:VTIMEZONE
TZID:US/Central
X-LIC-LOCATION:America/Chicago
BEGIN:DAYLIGHT
TZOFFSETFROM:-0600
TZOFFSETTO:-0500
TZNAME:CDT
DTSTART:19700308T020000
RRULE:FREQ=YEARLY;BYMONTH=3;BYDAY=2SU
END:DAYLIGHT
BEGIN:STANDARD
TZOFFSETFROM:-0500
TZOFFSETTO:-0600
TZNAME:CST
DTSTART:19701101T020000
RRULE:FREQ=YEARLY;BYMONTH=11;BYDAY=1SU
END:STANDARD
END:VTIMEZONE
BEGIN:VEVENT
DTSTART;TZID=US/Central:20241112T180000
DTEND;VALUE=DATE-TIME;TZID=US/Central:20241112T210000

DTSTAMP:20260419T155500Z
CREATED:20241021T013800Z
LAST-MODIFIED:20241024T195700Z
UID:20241112T180000-79617@law.utexas.edu
SUMMARY:PGLETS Welcome Mixer
DESCRIPTION:<p>Join us at Love Supreme Pizza on November 12th, from 6:00 PM to 9:00 PM! </p>
  <p>This mixer is sponsored by Frost Bank and will be a great opportunity to network with boutique firms and meet Austin attorneys in the practice area. </p>
  <p>Space is limited, so RSVP is required. The link to RSVP is here:
  <a href="https://forms.gle/LZFoi16zQ5pm4SSG7">https://forms.gle/LZFoi16zQ5pm4SSG7</a>
  </p>\n\nIf you need an accommodation to participate in this event, please contact the event sponsor or the Texas Law Special Events Office at specialevents@law.utexas.edu no later than seven business days prior to the event.
X-ALT-DESC;FMTTYPE=text/html:<p>Join us at Love Supreme Pizza on November 12th, from 6:00 PM to 9:00 PM! </p>
  <p>This mixer is sponsored by Frost Bank and will be a great opportunity to network with boutique firms and meet Austin attorneys in the practice area. </p>
  <p>Space is limited, so RSVP is required. The link to RSVP is here:
  <a href="https://forms.gle/LZFoi16zQ5pm4SSG7">https://forms.gle/LZFoi16zQ5pm4SSG7</a>
  </p><p>If you need an accommodation to participate in this event, please contact the event
                                          event sponsor or the Texas Law Special Events Office at <a href="mailto:specialevents@law.utexas.edu">specialevents@law.utexas.edu</a> no later than seven business days prior to the event.</p>


URL:http://law.utexas.edu/calendar/2024/11/12/79617/
CLASS:PUBLIC
STATUS:CONFIRMED

END:VEVENT
END:VCALENDAR