BEGIN:VCALENDAR
VERSION:2.0
PRODID:-//UNIVERSITY OF TEXAS SCHOOL OF LAW//NONSGML Events Calendar v1.0//EN
X-WR-TIMEZONE:America/Chicago
BEGIN:VTIMEZONE
TZID:US/Central
X-LIC-LOCATION:America/Chicago
BEGIN:DAYLIGHT
TZOFFSETFROM:-0600
TZOFFSETTO:-0500
TZNAME:CDT
DTSTART:19700308T020000
RRULE:FREQ=YEARLY;BYMONTH=3;BYDAY=2SU
END:DAYLIGHT
BEGIN:STANDARD
TZOFFSETFROM:-0500
TZOFFSETTO:-0600
TZNAME:CST
DTSTART:19701101T020000
RRULE:FREQ=YEARLY;BYMONTH=11;BYDAY=1SU
END:STANDARD
END:VTIMEZONE
BEGIN:VEVENT
DTSTART;TZID=US/Central:20241115T180000
DTEND;VALUE=DATE-TIME;TZID=US/Central:20241115T210000

DTSTAMP:20260419T173800Z
CREATED:20241012T004200Z
LAST-MODIFIED:20241029T221300Z
UID:20241115T180000-79474@law.utexas.edu
SUMMARY:Diwali by APALSA
DESCRIPTION:<p>Join APALSA in celebrating the Hindu festival of Diwali. Whatever your religious and spiritual beliefs, come together to enjoy good food, good company, and the victory of light over darkness that this cultural festival represents.</p>\n\nIf you need an accommodation to participate in this event, please contact the event sponsor or the Texas Law Special Events Office at specialevents@law.utexas.edu no later than seven business days prior to the event.
X-ALT-DESC;FMTTYPE=text/html:<p>Join APALSA in celebrating the Hindu festival of Diwali. Whatever your religious and spiritual beliefs, come together to enjoy good food, good company, and the victory of light over darkness that this cultural festival represents.</p><p>If you need an accommodation to participate in this event, please contact the event
                                          event sponsor or the Texas Law Special Events Office at <a href="mailto:specialevents@law.utexas.edu">specialevents@law.utexas.edu</a> no later than seven business days prior to the event.</p>
CATEGORIES:Dinner
LOCATION: PATMAN - Patman Family Plaza
URL:http://law.utexas.edu/calendar/2024/11/15/79474/
CLASS:PUBLIC
STATUS:CONFIRMED

END:VEVENT
END:VCALENDAR