BEGIN:VCALENDAR
VERSION:2.0
PRODID:-//UNIVERSITY OF TEXAS SCHOOL OF LAW//NONSGML Events Calendar v1.0//EN
X-WR-TIMEZONE:America/Chicago
BEGIN:VTIMEZONE
TZID:US/Central
X-LIC-LOCATION:America/Chicago
BEGIN:DAYLIGHT
TZOFFSETFROM:-0600
TZOFFSETTO:-0500
TZNAME:CDT
DTSTART:19700308T020000
RRULE:FREQ=YEARLY;BYMONTH=3;BYDAY=2SU
END:DAYLIGHT
BEGIN:STANDARD
TZOFFSETFROM:-0500
TZOFFSETTO:-0600
TZNAME:CST
DTSTART:19701101T020000
RRULE:FREQ=YEARLY;BYMONTH=11;BYDAY=1SU
END:STANDARD
END:VTIMEZONE
BEGIN:VEVENT
DTSTART;TZID=US/Central:20241115T170000
DTEND;VALUE=DATE-TIME;TZID=US/Central:20241115T200000

DTSTAMP:20260419T151200Z
CREATED:20241029T220400Z
LAST-MODIFIED:20241101T173300Z
UID:20241115T170000-79818@law.utexas.edu
SUMMARY:JLS Fall Shabbat Dinner
DESCRIPTION:<p>The Jewish Legal Society (JLS) is hosting our annual fall Shabbat dinner on Friday, November 15, from 5-8pm. JLS will be celebrating Shabbat with ritual blessings, conversation, and a delicious multi-course meal catered by UT Hillel. JLS members, alumni, faculty, and staff will enjoy the evening together. </p>\n\nIf you need an accommodation to participate in this event, please contact the event sponsor or the Texas Law Special Events Office at specialevents@law.utexas.edu no later than seven business days prior to the event.
X-ALT-DESC;FMTTYPE=text/html:<p>The Jewish Legal Society (JLS) is hosting our annual fall Shabbat dinner on Friday, November 15, from 5-8pm. JLS will be celebrating Shabbat with ritual blessings, conversation, and a delicious multi-course meal catered by UT Hillel. JLS members, alumni, faculty, and staff will enjoy the evening together. </p><p>If you need an accommodation to participate in this event, please contact the event
                                          event sponsor or the Texas Law Special Events Office at <a href="mailto:specialevents@law.utexas.edu">specialevents@law.utexas.edu</a> no later than seven business days prior to the event.</p>
CATEGORIES:Dinner
LOCATION:TNH 2.100 - Susman Godfrey Atrium
URL:http://law.utexas.edu/calendar/2024/11/15/79818/
CLASS:PUBLIC
STATUS:CONFIRMED

END:VEVENT
END:VCALENDAR