BEGIN:VCALENDAR
VERSION:2.0
PRODID:-//UNIVERSITY OF TEXAS SCHOOL OF LAW//NONSGML Events Calendar v1.0//EN
X-WR-TIMEZONE:America/Chicago
BEGIN:VTIMEZONE
TZID:US/Central
X-LIC-LOCATION:America/Chicago
BEGIN:DAYLIGHT
TZOFFSETFROM:-0600
TZOFFSETTO:-0500
TZNAME:CDT
DTSTART:19700308T020000
RRULE:FREQ=YEARLY;BYMONTH=3;BYDAY=2SU
END:DAYLIGHT
BEGIN:STANDARD
TZOFFSETFROM:-0500
TZOFFSETTO:-0600
TZNAME:CST
DTSTART:19701101T020000
RRULE:FREQ=YEARLY;BYMONTH=11;BYDAY=1SU
END:STANDARD
END:VTIMEZONE
BEGIN:VEVENT
DTSTART;TZID=US/Central:20241119T170000
DTEND;VALUE=DATE-TIME;TZID=US/Central:20241119T183000

DTSTAMP:20260419T172200Z
CREATED:20241111T175800Z
LAST-MODIFIED:20241111T180500Z
UID:20241119T170000-80055@law.utexas.edu
SUMMARY:Unleashed: A Film Screening
DESCRIPTION:<p>Unleashed: Survivors of Trafficking</p>
  <p>Despite the fact that experts estimate that the US is the world’s second largest sex trafficking market, myths and misconceptions about trafficking persist, among them the assumptions:
  - that only foreign nationals smuggled into the US are victims of this insidious crime
  - that victims can simply leave their traffickers
  - that once victims have been “rescued” their lives are immediately restored </p>
  <p>This film focuses on ten courageous and gritty women who have survived trafficking, examining the myths about sex trafficking and illuminating the societal factors that contribute to domestic girls getting trapped in the “Life.”  More importantly, it presents these women’s stories of the huge obstacles they faced and overcame in exiting the “Life” and offers encouragement to viewers to become involved in addressing this national disgrace.</p>
  <p>Q&amp;A with the documentarian to follow. </p>
  <p>Snacks and drinks will be provided. </p>\n\nIf you need an accommodation to participate in this event, please contact the event sponsor or the Texas Law Special Events Office at specialevents@law.utexas.edu no later than seven business days prior to the event.
X-ALT-DESC;FMTTYPE=text/html:<p>Unleashed: Survivors of Trafficking</p>
  <p>Despite the fact that experts estimate that the US is the world’s second largest sex trafficking market, myths and misconceptions about trafficking persist, among them the assumptions:
  - that only foreign nationals smuggled into the US are victims of this insidious crime
  - that victims can simply leave their traffickers
  - that once victims have been “rescued” their lives are immediately restored </p>
  <p>This film focuses on ten courageous and gritty women who have survived trafficking, examining the myths about sex trafficking and illuminating the societal factors that contribute to domestic girls getting trapped in the “Life.”  More importantly, it presents these women’s stories of the huge obstacles they faced and overcame in exiting the “Life” and offers encouragement to viewers to become involved in addressing this national disgrace.</p>
  <p>Q&amp;A with the documentarian to follow. </p>
  <p>Snacks and drinks will be provided. </p><p>If you need an accommodation to participate in this event, please contact the event
                                          event sponsor or the Texas Law Special Events Office at <a href="mailto:specialevents@law.utexas.edu">specialevents@law.utexas.edu</a> no later than seven business days prior to the event.</p>
CATEGORIES:Panel Discussion / Speaker Series
LOCATION:TNH 2.114 - Francis Auditorium
URL:http://law.utexas.edu/calendar/2024/11/19/80055/
CLASS:PUBLIC
STATUS:CONFIRMED

END:VEVENT
END:VCALENDAR