BEGIN:VCALENDAR
VERSION:2.0
PRODID:-//UNIVERSITY OF TEXAS SCHOOL OF LAW//NONSGML Events Calendar v1.0//EN
X-WR-TIMEZONE:America/Chicago
BEGIN:VTIMEZONE
TZID:US/Central
X-LIC-LOCATION:America/Chicago
BEGIN:DAYLIGHT
TZOFFSETFROM:-0600
TZOFFSETTO:-0500
TZNAME:CDT
DTSTART:19700308T020000
RRULE:FREQ=YEARLY;BYMONTH=3;BYDAY=2SU
END:DAYLIGHT
BEGIN:STANDARD
TZOFFSETFROM:-0500
TZOFFSETTO:-0600
TZNAME:CST
DTSTART:19701101T020000
RRULE:FREQ=YEARLY;BYMONTH=11;BYDAY=1SU
END:STANDARD
END:VTIMEZONE
BEGIN:VEVENT
DTSTART;TZID=US/Central:20241119T093000
DTEND;VALUE=DATE-TIME;TZID=US/Central:20241119T103000

DTSTAMP:20260419T121900Z
CREATED:20241112T202500Z
LAST-MODIFIED:20241112T202500Z
UID:20241119T093000-80098@law.utexas.edu
SUMMARY:CWIL Breakfast Reception
DESCRIPTION:<p>Come meet our new Executive Director, Jennifer Banda! Swing by the CWIL suite and grab some breakfast pastries and coffee while you meet our new Director! Suite is located at TNH 3.119!</p>\n\nIf you need an accommodation to participate in this event, please contact the event sponsor or the Texas Law Special Events Office at specialevents@law.utexas.edu no later than seven business days prior to the event.
X-ALT-DESC;FMTTYPE=text/html:<p>Come meet our new Executive Director, Jennifer Banda! Swing by the CWIL suite and grab some breakfast pastries and coffee while you meet our new Director! Suite is located at TNH 3.119!</p><p>If you need an accommodation to participate in this event, please contact the event
                                          event sponsor or the Texas Law Special Events Office at <a href="mailto:specialevents@law.utexas.edu">specialevents@law.utexas.edu</a> no later than seven business days prior to the event.</p>
CATEGORIES:Breakfast

URL:http://law.utexas.edu/calendar/2024/11/19/80098/
CLASS:PUBLIC
STATUS:CONFIRMED

END:VEVENT
END:VCALENDAR