BEGIN:VCALENDAR
VERSION:2.0
PRODID:-//UNIVERSITY OF TEXAS SCHOOL OF LAW//NONSGML Events Calendar v1.0//EN
X-WR-TIMEZONE:America/Chicago
BEGIN:VTIMEZONE
TZID:US/Central
X-LIC-LOCATION:America/Chicago
BEGIN:DAYLIGHT
TZOFFSETFROM:-0600
TZOFFSETTO:-0500
TZNAME:CDT
DTSTART:19700308T020000
RRULE:FREQ=YEARLY;BYMONTH=3;BYDAY=2SU
END:DAYLIGHT
BEGIN:STANDARD
TZOFFSETFROM:-0500
TZOFFSETTO:-0600
TZNAME:CST
DTSTART:19701101T020000
RRULE:FREQ=YEARLY;BYMONTH=11;BYDAY=1SU
END:STANDARD
END:VTIMEZONE
BEGIN:VEVENT
DTSTART;TZID=US/Central:20250117
DTEND;TZID=US/Central:20250118
X-MICROSOFT-CDO-ALLDAYEVENT:TRUE
X-FUNAMBOL-ALLDAY:TRUE
DTSTAMP:20260419T155400Z
CREATED:20240607T224900Z
LAST-MODIFIED:20250105T040100Z
UID:20250117T000000-77928@law.utexas.edu
SUMMARY:Texas Law Review Symposium
DESCRIPTION:<p>Breakfast and lunch provided
  Panel 1: Pluralism in IP - Patrick Goold and David Simon (9-10 am)
  Panel 2: A Law and Political Economy of IP - Oren Bracha and Talha Syed (10-11 am)
  Panel 3: The Law of Everyday Design - Mark McKenna and Jessica Silbey (11:15 am-12:15 pm)
  Panel 4: Rationalizing Patents: Context and the Security of Social Value - John M. Golden (1:15-2:15 pm)
  Panel 5: Patents and the Border, or, No One Ever Called Alexander Graham Bell an "Immigrant Inventor" - Kara Swanson (2:15-3:15 pm)
  Panel 6: Seeing the Dead People: Mark, Meaning, and the Haunting of Modern Trademark Law - Kali Murray (3:30-4:30 pm)</p>\n\nIf you need an accommodation to participate in this event, please contact the event sponsor or the Texas Law Special Events Office at specialevents@law.utexas.edu no later than seven business days prior to the event.
X-ALT-DESC;FMTTYPE=text/html:<p>Breakfast and lunch provided
  Panel 1: Pluralism in IP - Patrick Goold and David Simon (9-10 am)
  Panel 2: A Law and Political Economy of IP - Oren Bracha and Talha Syed (10-11 am)
  Panel 3: The Law of Everyday Design - Mark McKenna and Jessica Silbey (11:15 am-12:15 pm)
  Panel 4: Rationalizing Patents: Context and the Security of Social Value - John M. Golden (1:15-2:15 pm)
  Panel 5: Patents and the Border, or, No One Ever Called Alexander Graham Bell an "Immigrant Inventor" - Kara Swanson (2:15-3:15 pm)
  Panel 6: Seeing the Dead People: Mark, Meaning, and the Haunting of Modern Trademark Law - Kali Murray (3:30-4:30 pm)</p><p>If you need an accommodation to participate in this event, please contact the event
                                          event sponsor or the Texas Law Special Events Office at <a href="mailto:specialevents@law.utexas.edu">specialevents@law.utexas.edu</a> no later than seven business days prior to the event.</p>
CATEGORIES:Symposium
LOCATION:CCJ 2.306 - Eidman Courtroom
URL:http://law.utexas.edu/calendar/2025/01/17/77928/
CLASS:PUBLIC
STATUS:CONFIRMED

END:VEVENT
END:VCALENDAR