BEGIN:VCALENDAR
VERSION:2.0
PRODID:-//UNIVERSITY OF TEXAS SCHOOL OF LAW//NONSGML Events Calendar v1.0//EN
X-WR-TIMEZONE:America/Chicago
BEGIN:VTIMEZONE
TZID:US/Central
X-LIC-LOCATION:America/Chicago
BEGIN:DAYLIGHT
TZOFFSETFROM:-0600
TZOFFSETTO:-0500
TZNAME:CDT
DTSTART:19700308T020000
RRULE:FREQ=YEARLY;BYMONTH=3;BYDAY=2SU
END:DAYLIGHT
BEGIN:STANDARD
TZOFFSETFROM:-0500
TZOFFSETTO:-0600
TZNAME:CST
DTSTART:19701101T020000
RRULE:FREQ=YEARLY;BYMONTH=11;BYDAY=1SU
END:STANDARD
END:VTIMEZONE
BEGIN:VEVENT
DTSTART;TZID=US/Central:20250204T114500
DTEND;VALUE=DATE-TIME;TZID=US/Central:20250204T125000

DTSTAMP:20260419T170000Z
CREATED:20250107T225100Z
LAST-MODIFIED:20250128T184900Z
UID:20250204T114500-80587@law.utexas.edu
SUMMARY:Race, Law in the Creation of Puerto Rico
DESCRIPTION:<p>Join us for a talk on "Making Never-Never Land: Race and Law in the Creation of Puerto Rico" with author, Assistant Professor of African and African Diaspora Studies, and Rapoport Center faculty affiliate Mónica A. Jiménez.</p>\n\nIf you need an accommodation to participate in this event, please contact the event sponsor or the Texas Law Special Events Office at specialevents@law.utexas.edu no later than seven business days prior to the event.
X-ALT-DESC;FMTTYPE=text/html:<p>Join us for a talk on "Making Never-Never Land: Race and Law in the Creation of Puerto Rico" with author, Assistant Professor of African and African Diaspora Studies, and Rapoport Center faculty affiliate Mónica A. Jiménez.</p><p>If you need an accommodation to participate in this event, please contact the event
                                          event sponsor or the Texas Law Special Events Office at <a href="mailto:specialevents@law.utexas.edu">specialevents@law.utexas.edu</a> no later than seven business days prior to the event.</p>

LOCATION:TNH 3.125 - Denius Classroom
URL:http://law.utexas.edu/calendar/2025/02/04/80587/
CLASS:PUBLIC
STATUS:CONFIRMED
COMMENT:carolinehahn@austin.utexas.edu
END:VEVENT
END:VCALENDAR