BEGIN:VCALENDAR
VERSION:2.0
PRODID:-//UNIVERSITY OF TEXAS SCHOOL OF LAW//NONSGML Events Calendar v1.0//EN
X-WR-TIMEZONE:America/Chicago
BEGIN:VTIMEZONE
TZID:US/Central
X-LIC-LOCATION:America/Chicago
BEGIN:DAYLIGHT
TZOFFSETFROM:-0600
TZOFFSETTO:-0500
TZNAME:CDT
DTSTART:19700308T020000
RRULE:FREQ=YEARLY;BYMONTH=3;BYDAY=2SU
END:DAYLIGHT
BEGIN:STANDARD
TZOFFSETFROM:-0500
TZOFFSETTO:-0600
TZNAME:CST
DTSTART:19701101T020000
RRULE:FREQ=YEARLY;BYMONTH=11;BYDAY=1SU
END:STANDARD
END:VTIMEZONE
BEGIN:VEVENT
DTSTART;TZID=US/Central:20250205T173000
DTEND;VALUE=DATE-TIME;TZID=US/Central:20250205T190000

DTSTAMP:20260419T193800Z
CREATED:20250115T212000Z
LAST-MODIFIED:20250115T212000Z
UID:20250205T173000-80738@law.utexas.edu
SUMMARY:Midnight in Moscow with John Sullivan
DESCRIPTION:<p>On Wednesday, February 5, the Strauss Center for International Security and Law and Clements Center for National Security will host a fireside chat with former U.S. Ambassador to the Russian Federation John Sullivan about his experiences in this role and his memoir, “Midnight in Moscow: Lessons from the Front Lines of Russia’s War Against the West.” The talk will be moderated by Strauss Center Director Adam Klein.</p>
  <p>In addition to discussing the powerful anecdotes within his book on the Russian invasion of Ukraine in 2022 from his perspective on the ground, Sullivan will also share his perspectives on contemporary topics, including the prospects for ending the Russia-Ukraine war, the future of Russia under and after Putin, the foreign policy outlook for President Trump’s second term, and more.</p>
  <p>This event is free and open to the public and registration is REQUIRED. Please note: Registration does not guarantee admission, as seating will be available on a first come, first served basis. Doors will open at 5:00 pm. A government-issued photo ID matching your registration will be required to enter (UT Austin students, faculty, and staff may use their UT Austin photo ID, if needed).</p>
  <p>Garage parking is available for a fee at the Manor Garage and the San Jacinto Garage. Parking will not be validated.</p>
  <p>For any questions about this event, contact Brittany Horton at brittany.horton@austin.utexas.edu.</p>\n\nIf you need an accommodation to participate in this event, please contact the event sponsor or the Texas Law Special Events Office at specialevents@law.utexas.edu no later than seven business days prior to the event.
X-ALT-DESC;FMTTYPE=text/html:<p>On Wednesday, February 5, the Strauss Center for International Security and Law and Clements Center for National Security will host a fireside chat with former U.S. Ambassador to the Russian Federation John Sullivan about his experiences in this role and his memoir, “Midnight in Moscow: Lessons from the Front Lines of Russia’s War Against the West.” The talk will be moderated by Strauss Center Director Adam Klein.</p>
  <p>In addition to discussing the powerful anecdotes within his book on the Russian invasion of Ukraine in 2022 from his perspective on the ground, Sullivan will also share his perspectives on contemporary topics, including the prospects for ending the Russia-Ukraine war, the future of Russia under and after Putin, the foreign policy outlook for President Trump’s second term, and more.</p>
  <p>This event is free and open to the public and registration is REQUIRED. Please note: Registration does not guarantee admission, as seating will be available on a first come, first served basis. Doors will open at 5:00 pm. A government-issued photo ID matching your registration will be required to enter (UT Austin students, faculty, and staff may use their UT Austin photo ID, if needed).</p>
  <p>Garage parking is available for a fee at the Manor Garage and the San Jacinto Garage. Parking will not be validated.</p>
  <p>For any questions about this event, contact Brittany Horton at brittany.horton@austin.utexas.edu.</p><p>If you need an accommodation to participate in this event, please contact the event
                                          event sponsor or the Texas Law Special Events Office at <a href="mailto:specialevents@law.utexas.edu">specialevents@law.utexas.edu</a> no later than seven business days prior to the event.</p>
CATEGORIES:Panel Discussion / Speaker Series
LOCATION:Bass Lecture Hall, LBJ School of Public Affairs
URL:http://law.utexas.edu/calendar/2025/02/05/80738/
CLASS:PUBLIC
STATUS:CONFIRMED
COMMENT:https://www.strausscenter.org/events/midnight-in-moscow-lessons-from-the-front-lines-of-russias-war-against-the-west/
END:VEVENT
END:VCALENDAR