BEGIN:VCALENDAR
VERSION:2.0
PRODID:-//UNIVERSITY OF TEXAS SCHOOL OF LAW//NONSGML Events Calendar v1.0//EN
X-WR-TIMEZONE:America/Chicago
BEGIN:VTIMEZONE
TZID:US/Central
X-LIC-LOCATION:America/Chicago
BEGIN:DAYLIGHT
TZOFFSETFROM:-0600
TZOFFSETTO:-0500
TZNAME:CDT
DTSTART:19700308T020000
RRULE:FREQ=YEARLY;BYMONTH=3;BYDAY=2SU
END:DAYLIGHT
BEGIN:STANDARD
TZOFFSETFROM:-0500
TZOFFSETTO:-0600
TZNAME:CST
DTSTART:19701101T020000
RRULE:FREQ=YEARLY;BYMONTH=11;BYDAY=1SU
END:STANDARD
END:VTIMEZONE
BEGIN:VEVENT
DTSTART;TZID=US/Central:20250205T083000
DTEND;VALUE=DATE-TIME;TZID=US/Central:20250205T110000

DTSTAMP:20260419T185900Z
CREATED:20250131T221200Z
LAST-MODIFIED:20250201T235600Z
UID:20250205T083000-81198@law.utexas.edu
SUMMARY:Caffeinated Career Chats
DESCRIPTION:<p>Join PALS for open office hours featuring Creature Coffee and breakfast tacos! Come by to chat all things jobs, applications, interviews, and more. Stop by if you're in need of advice, career resources, or just a cup of coffee.</p>\n\nIf you need an accommodation to participate in this event, please contact the event sponsor or the Texas Law Special Events Office at specialevents@law.utexas.edu no later than seven business days prior to the event.
X-ALT-DESC;FMTTYPE=text/html:<p>Join PALS for open office hours featuring Creature Coffee and breakfast tacos! Come by to chat all things jobs, applications, interviews, and more. Stop by if you're in need of advice, career resources, or just a cup of coffee.</p><p>If you need an accommodation to participate in this event, please contact the event
                                          event sponsor or the Texas Law Special Events Office at <a href="mailto:specialevents@law.utexas.edu">specialevents@law.utexas.edu</a> no later than seven business days prior to the event.</p>
CATEGORIES:Breakfast
LOCATION:TNH 2.100 - Susman Godfrey Atrium
URL:http://law.utexas.edu/calendar/2025/02/05/81198/
CLASS:PUBLIC
STATUS:CONFIRMED
COMMENT:email texasplaintiffs@gmail.com
END:VEVENT
END:VCALENDAR