BEGIN:VCALENDAR
VERSION:2.0
PRODID:-//UNIVERSITY OF TEXAS SCHOOL OF LAW//NONSGML Events Calendar v1.0//EN
X-WR-TIMEZONE:America/Chicago
BEGIN:VTIMEZONE
TZID:US/Central
X-LIC-LOCATION:America/Chicago
BEGIN:DAYLIGHT
TZOFFSETFROM:-0600
TZOFFSETTO:-0500
TZNAME:CDT
DTSTART:19700308T020000
RRULE:FREQ=YEARLY;BYMONTH=3;BYDAY=2SU
END:DAYLIGHT
BEGIN:STANDARD
TZOFFSETFROM:-0500
TZOFFSETTO:-0600
TZNAME:CST
DTSTART:19701101T020000
RRULE:FREQ=YEARLY;BYMONTH=11;BYDAY=1SU
END:STANDARD
END:VTIMEZONE
BEGIN:VEVENT
DTSTART;TZID=US/Central:20250206T115000
DTEND;VALUE=DATE-TIME;TZID=US/Central:20250206T125000

DTSTAMP:20260419T172000Z
CREATED:20250109T175100Z
LAST-MODIFIED:20250110T175900Z
UID:20250206T115000-80624@law.utexas.edu
SUMMARY:Starting Out in Trust and Estate Law
DESCRIPTION:<p>Join PGLETS for a panel discussion featuring young attorneys from a variety of trust and estate firms and practices. Panelists will discuss how they began their career in trust and estate law, and provide advice for students interested in pursuing similar careers.</p>\n\nIf you need an accommodation to participate in this event, please contact the event sponsor or the Texas Law Special Events Office at specialevents@law.utexas.edu no later than seven business days prior to the event.
X-ALT-DESC;FMTTYPE=text/html:<p>Join PGLETS for a panel discussion featuring young attorneys from a variety of trust and estate firms and practices. Panelists will discuss how they began their career in trust and estate law, and provide advice for students interested in pursuing similar careers.</p><p>If you need an accommodation to participate in this event, please contact the event
                                          event sponsor or the Texas Law Special Events Office at <a href="mailto:specialevents@law.utexas.edu">specialevents@law.utexas.edu</a> no later than seven business days prior to the event.</p>
CATEGORIES:Panel Discussion / Speaker Series
LOCATION:TNH 3.124 - Neathery Classroom
URL:http://law.utexas.edu/calendar/2025/02/06/80624/
CLASS:PUBLIC
STATUS:CONFIRMED

END:VEVENT
END:VCALENDAR