BEGIN:VCALENDAR
VERSION:2.0
PRODID:-//UNIVERSITY OF TEXAS SCHOOL OF LAW//NONSGML Events Calendar v1.0//EN
X-WR-TIMEZONE:America/Chicago
BEGIN:VTIMEZONE
TZID:US/Central
X-LIC-LOCATION:America/Chicago
BEGIN:DAYLIGHT
TZOFFSETFROM:-0600
TZOFFSETTO:-0500
TZNAME:CDT
DTSTART:19700308T020000
RRULE:FREQ=YEARLY;BYMONTH=3;BYDAY=2SU
END:DAYLIGHT
BEGIN:STANDARD
TZOFFSETFROM:-0500
TZOFFSETTO:-0600
TZNAME:CST
DTSTART:19701101T020000
RRULE:FREQ=YEARLY;BYMONTH=11;BYDAY=1SU
END:STANDARD
END:VTIMEZONE
BEGIN:VEVENT
DTSTART;TZID=US/Central:20250206T180000
DTEND;VALUE=DATE-TIME;TZID=US/Central:20250206T200000

DTSTAMP:20260419T153100Z
CREATED:20250124T200700Z
LAST-MODIFIED:20250124T204700Z
UID:20250206T180000-80881@law.utexas.edu
SUMMARY:Speed Mentoring
DESCRIPTION:<p>Join alumni mentors and their students for a reception featuring food and
  drink at this elegant new cocktail and canape lounge in downtown Austin followed by rounds of “speed mentoring” where you speak with a number of different students about practice and career path.
  This event generously sponsored by Reid, Collins &amp; Tsai. </p><p>
  - All events have limited space and tickets will be issued on a first-come, first-
  served basis.
  - Both student and mentor must be able to attend together.</p>\n\nIf you need an accommodation to participate in this event, please contact the event sponsor or the Texas Law Special Events Office at specialevents@law.utexas.edu no later than seven business days prior to the event.
X-ALT-DESC;FMTTYPE=text/html:<p>Join alumni mentors and their students for a reception featuring food and
  drink at this elegant new cocktail and canape lounge in downtown Austin followed by rounds of “speed mentoring” where you speak with a number of different students about practice and career path.
  This event generously sponsored by Reid, Collins &amp; Tsai. </p><p>
  - All events have limited space and tickets will be issued on a first-come, first-
  served basis.
  - Both student and mentor must be able to attend together.</p><p>If you need an accommodation to participate in this event, please contact the event
                                          event sponsor or the Texas Law Special Events Office at <a href="mailto:specialevents@law.utexas.edu">specialevents@law.utexas.edu</a> no later than seven business days prior to the event.</p>
CATEGORIES:Other
LOCATION:Prelude
URL:http://law.utexas.edu/calendar/2025/02/06/80881/
CLASS:PUBLIC
STATUS:CONFIRMED
COMMENT:mentoring@law.utexas.edu
END:VEVENT
END:VCALENDAR