BEGIN:VCALENDAR
VERSION:2.0
PRODID:-//UNIVERSITY OF TEXAS SCHOOL OF LAW//NONSGML Events Calendar v1.0//EN
X-WR-TIMEZONE:America/Chicago
BEGIN:VTIMEZONE
TZID:US/Central
X-LIC-LOCATION:America/Chicago
BEGIN:DAYLIGHT
TZOFFSETFROM:-0600
TZOFFSETTO:-0500
TZNAME:CDT
DTSTART:19700308T020000
RRULE:FREQ=YEARLY;BYMONTH=3;BYDAY=2SU
END:DAYLIGHT
BEGIN:STANDARD
TZOFFSETFROM:-0500
TZOFFSETTO:-0600
TZNAME:CST
DTSTART:19701101T020000
RRULE:FREQ=YEARLY;BYMONTH=11;BYDAY=1SU
END:STANDARD
END:VTIMEZONE
BEGIN:VEVENT
DTSTART;TZID=US/Central:20250206T115000
DTEND;VALUE=DATE-TIME;TZID=US/Central:20250206T125000

DTSTAMP:20260419T194400Z
CREATED:20250129T051800Z
LAST-MODIFIED:20250131T183300Z
UID:20250206T115000-81140@law.utexas.edu
SUMMARY:IP Mid-Sized Firm Lun
DESCRIPTION:<p>We will have attorneys from several firms come in and discuss how mid-sized IP boutiques recruit and compare to IP groups in larger firms.    </p>\n\nIf you need an accommodation to participate in this event, please contact the event sponsor or the Texas Law Special Events Office at specialevents@law.utexas.edu no later than seven business days prior to the event.
X-ALT-DESC;FMTTYPE=text/html:<p>We will have attorneys from several firms come in and discuss how mid-sized IP boutiques recruit and compare to IP groups in larger firms.    </p><p>If you need an accommodation to participate in this event, please contact the event
                                          event sponsor or the Texas Law Special Events Office at <a href="mailto:specialevents@law.utexas.edu">specialevents@law.utexas.edu</a> no later than seven business days prior to the event.</p>
CATEGORIES:Panel Discussion / Speaker Series
LOCATION:TNH 3.126 - Ratliff Classroom
URL:http://law.utexas.edu/calendar/2025/02/06/81140/
CLASS:PUBLIC
STATUS:CONFIRMED
COMMENT:Email:  ME@tiplj.org
END:VEVENT
END:VCALENDAR