BEGIN:VCALENDAR
VERSION:2.0
PRODID:-//UNIVERSITY OF TEXAS SCHOOL OF LAW//NONSGML Events Calendar v1.0//EN
X-WR-TIMEZONE:America/Chicago
BEGIN:VTIMEZONE
TZID:US/Central
X-LIC-LOCATION:America/Chicago
BEGIN:DAYLIGHT
TZOFFSETFROM:-0600
TZOFFSETTO:-0500
TZNAME:CDT
DTSTART:19700308T020000
RRULE:FREQ=YEARLY;BYMONTH=3;BYDAY=2SU
END:DAYLIGHT
BEGIN:STANDARD
TZOFFSETFROM:-0500
TZOFFSETTO:-0600
TZNAME:CST
DTSTART:19701101T020000
RRULE:FREQ=YEARLY;BYMONTH=11;BYDAY=1SU
END:STANDARD
END:VTIMEZONE
BEGIN:VEVENT
DTSTART;TZID=US/Central:20250210T173000
DTEND;VALUE=DATE-TIME;TZID=US/Central:20250210T193000

DTSTAMP:20260419T131600Z
CREATED:20250110T204600Z
LAST-MODIFIED:20250115T161800Z
UID:20250210T173000-80659@law.utexas.edu
SUMMARY:Texas Law Showcase -Prof. Steven Collis
DESCRIPTION:<p>Calling all Dallas-Fort Worth Alumni!</p>
  <p>Join us for an evening of engaging conversations at the Texas Law Showcase, featuring Professor Steven T. Collis.</p>
  <p>Professor Collis, the founding faculty director of the Bech-Loughlin First Amendment Center, will share insights into his work and discuss his newly published book, Habits of a Peacemaker. We hope you can join us for this fantastic opportunity to reconnect with fellow alumni, expand your professional network, and engage in meaningful discussion on timely legal topics.</p>
  <p>This is an exclusive event for Texas Law alumni community. Please spread the word!</p>
  <p>We can’t wait to see you in Dallas. RSVP now!</p><p>
  <a href="https://law.utexas.edu/alumni/event/tls-collis/">https://law.utexas.edu/alumni/event/tls-collis/</a></p>
  <p>Registration is required by Thursday, February 6.</p>\n\nIf you need an accommodation to participate in this event, please contact the event sponsor or the Texas Law Special Events Office at specialevents@law.utexas.edu no later than seven business days prior to the event.
X-ALT-DESC;FMTTYPE=text/html:<p>Calling all Dallas-Fort Worth Alumni!</p>
  <p>Join us for an evening of engaging conversations at the Texas Law Showcase, featuring Professor Steven T. Collis.</p>
  <p>Professor Collis, the founding faculty director of the Bech-Loughlin First Amendment Center, will share insights into his work and discuss his newly published book, Habits of a Peacemaker. We hope you can join us for this fantastic opportunity to reconnect with fellow alumni, expand your professional network, and engage in meaningful discussion on timely legal topics.</p>
  <p>This is an exclusive event for Texas Law alumni community. Please spread the word!</p>
  <p>We can’t wait to see you in Dallas. RSVP now!</p><p>
  <a href="https://law.utexas.edu/alumni/event/tls-collis/">https://law.utexas.edu/alumni/event/tls-collis/</a></p>
  <p>Registration is required by Thursday, February 6.</p><p>If you need an accommodation to participate in this event, please contact the event
                                          event sponsor or the Texas Law Special Events Office at <a href="mailto:specialevents@law.utexas.edu">specialevents@law.utexas.edu</a> no later than seven business days prior to the event.</p>
CATEGORIES:Panel Discussion / Speaker Series
LOCATION:Park House, Dallas, Texas
URL:http://law.utexas.edu/calendar/2025/02/10/80659/
CLASS:PUBLIC
STATUS:CONFIRMED
COMMENT:events@law.utexas.edu 
END:VEVENT
END:VCALENDAR