BEGIN:VCALENDAR
VERSION:2.0
PRODID:-//UNIVERSITY OF TEXAS SCHOOL OF LAW//NONSGML Events Calendar v1.0//EN
X-WR-TIMEZONE:America/Chicago
BEGIN:VTIMEZONE
TZID:US/Central
X-LIC-LOCATION:America/Chicago
BEGIN:DAYLIGHT
TZOFFSETFROM:-0600
TZOFFSETTO:-0500
TZNAME:CDT
DTSTART:19700308T020000
RRULE:FREQ=YEARLY;BYMONTH=3;BYDAY=2SU
END:DAYLIGHT
BEGIN:STANDARD
TZOFFSETFROM:-0500
TZOFFSETTO:-0600
TZNAME:CST
DTSTART:19701101T020000
RRULE:FREQ=YEARLY;BYMONTH=11;BYDAY=1SU
END:STANDARD
END:VTIMEZONE
BEGIN:VEVENT
DTSTART;TZID=US/Central:20250212T120000
DTEND;VALUE=DATE-TIME;TZID=US/Central:20250212T131500

DTSTAMP:20260419T202000Z
CREATED:20241210T185300Z
LAST-MODIFIED:20250114T225300Z
UID:20250212T120000-80416@law.utexas.edu
SUMMARY:SPSP - Information Session
DESCRIPTION:<p>The Summer Public Service Program provides stipends to rising 2Ls and 3Ls working in low-paying or unpaid summer internships in nonprofit, government, and legislative offices. Justice Center and Financial Aid Office staff will provide information about the SPSP for summer 2025, including eligibility, funding, and how to apply, and answer students’ questions. Information is also available on the SPSP 2025 page. Lunch will be provided. </p>\n\nIf you need an accommodation to participate in this event, please contact the event sponsor or the Texas Law Special Events Office at specialevents@law.utexas.edu no later than seven business days prior to the event.
X-ALT-DESC;FMTTYPE=text/html:<p>The Summer Public Service Program provides stipends to rising 2Ls and 3Ls working in low-paying or unpaid summer internships in nonprofit, government, and legislative offices. Justice Center and Financial Aid Office staff will provide information about the SPSP for summer 2025, including eligibility, funding, and how to apply, and answer students’ questions. Information is also available on the SPSP 2025 page. Lunch will be provided. </p><p>If you need an accommodation to participate in this event, please contact the event
                                          event sponsor or the Texas Law Special Events Office at <a href="mailto:specialevents@law.utexas.edu">specialevents@law.utexas.edu</a> no later than seven business days prior to the event.</p>
CATEGORIES:Lunch
LOCATION:TNH 2.137 - Gayle Classroom
URL:http://law.utexas.edu/calendar/2025/02/12/80416/
CLASS:PUBLIC
STATUS:CONFIRMED

END:VEVENT
END:VCALENDAR