BEGIN:VCALENDAR
VERSION:2.0
PRODID:-//UNIVERSITY OF TEXAS SCHOOL OF LAW//NONSGML Events Calendar v1.0//EN
X-WR-TIMEZONE:America/Chicago
BEGIN:VTIMEZONE
TZID:US/Central
X-LIC-LOCATION:America/Chicago
BEGIN:DAYLIGHT
TZOFFSETFROM:-0600
TZOFFSETTO:-0500
TZNAME:CDT
DTSTART:19700308T020000
RRULE:FREQ=YEARLY;BYMONTH=3;BYDAY=2SU
END:DAYLIGHT
BEGIN:STANDARD
TZOFFSETFROM:-0500
TZOFFSETTO:-0600
TZNAME:CST
DTSTART:19701101T020000
RRULE:FREQ=YEARLY;BYMONTH=11;BYDAY=1SU
END:STANDARD
END:VTIMEZONE
BEGIN:VEVENT
DTSTART;TZID=US/Central:20250212T160000
DTEND;VALUE=DATE-TIME;TZID=US/Central:20250212T180000

DTSTAMP:20260419T170900Z
CREATED:20250114T180000Z
LAST-MODIFIED:20250114T180800Z
UID:20250212T160000-80707@law.utexas.edu
SUMMARY:Conversation with Satsuki Ina
DESCRIPTION:<p>Dr. Satsuki Ina will discuss her memoir The Poet and the Silk Girl: A Memoir of Love, Imprisonment, and Protest, a compelling story of one family’s defiance in the face of injustice and how their story echoes across generations.</p>
  <p>Satsuki Ina is an Emmy award-winning documentarian, community activist, and co-founder of Tsuru for Solidarity. The Poet and the Silk Girl explores her family’s experience of unjust incarceration during WWII.</p>
  <p>Ina links her family’s story to struggles against WWII incarceration camps to ongoing mass incarceration of migrants at the U.S. — Mexico border. Her story and analysis are particularly relevant given national conversations about mass detention camps and invoking the Alien Enemies Act today.</p>
  <p>This event is sponsored by the Center for Asian American Studies, Human Rights Watch, Immigration Clinic at the University of Texas School of Law, the Initiative for Law, Societies, and Justice, Rapoport Center for Human Rights and Justice, Sissy Farenthold Fund for Peace and Social Justice, Tsuru for Solidarity, and the William Wayne Justice Center for Public Interest Law.</p>\n\nIf you need an accommodation to participate in this event, please contact the event sponsor or the Texas Law Special Events Office at specialevents@law.utexas.edu no later than seven business days prior to the event.
X-ALT-DESC;FMTTYPE=text/html:<p>Dr. Satsuki Ina will discuss her memoir The Poet and the Silk Girl: A Memoir of Love, Imprisonment, and Protest, a compelling story of one family’s defiance in the face of injustice and how their story echoes across generations.</p>
  <p>Satsuki Ina is an Emmy award-winning documentarian, community activist, and co-founder of Tsuru for Solidarity. The Poet and the Silk Girl explores her family’s experience of unjust incarceration during WWII.</p>
  <p>Ina links her family’s story to struggles against WWII incarceration camps to ongoing mass incarceration of migrants at the U.S. — Mexico border. Her story and analysis are particularly relevant given national conversations about mass detention camps and invoking the Alien Enemies Act today.</p>
  <p>This event is sponsored by the Center for Asian American Studies, Human Rights Watch, Immigration Clinic at the University of Texas School of Law, the Initiative for Law, Societies, and Justice, Rapoport Center for Human Rights and Justice, Sissy Farenthold Fund for Peace and Social Justice, Tsuru for Solidarity, and the William Wayne Justice Center for Public Interest Law.</p><p>If you need an accommodation to participate in this event, please contact the event
                                          event sponsor or the Texas Law Special Events Office at <a href="mailto:specialevents@law.utexas.edu">specialevents@law.utexas.edu</a> no later than seven business days prior to the event.</p>

LOCATION:TNH 2.111 - Sheffield-Massey Room
URL:http://law.utexas.edu/calendar/2025/02/12/80707/
CLASS:PUBLIC
STATUS:CONFIRMED
COMMENT:carolinehahn@austin.utexas.edu
END:VEVENT
END:VCALENDAR