BEGIN:VCALENDAR
VERSION:2.0
PRODID:-//UNIVERSITY OF TEXAS SCHOOL OF LAW//NONSGML Events Calendar v1.0//EN
X-WR-TIMEZONE:America/Chicago
BEGIN:VTIMEZONE
TZID:US/Central
X-LIC-LOCATION:America/Chicago
BEGIN:DAYLIGHT
TZOFFSETFROM:-0600
TZOFFSETTO:-0500
TZNAME:CDT
DTSTART:19700308T020000
RRULE:FREQ=YEARLY;BYMONTH=3;BYDAY=2SU
END:DAYLIGHT
BEGIN:STANDARD
TZOFFSETFROM:-0500
TZOFFSETTO:-0600
TZNAME:CST
DTSTART:19701101T020000
RRULE:FREQ=YEARLY;BYMONTH=11;BYDAY=1SU
END:STANDARD
END:VTIMEZONE
BEGIN:VEVENT
DTSTART;TZID=US/Central:20250219T173000


DTSTAMP:20260419T185900Z
CREATED:20241220T203000Z
LAST-MODIFIED:20250103T165100Z
UID:20250219T173000-80536@law.utexas.edu
SUMMARY:Lott Medal Presentation &amp; Dinner
DESCRIPTION:<p>In 2011, the University of Texas School of Law established the Virgil C. Lott Medal to honor our first African American graduate. The medal is presented at a gala dinner, and recipients are chosen by a distinguished committee headed by Dean Bobby Chesney, former Dean Larry Sager, and previous winners. Dean Chesney describes the mission of the award and ceremony thusly: “Virgil C. Lott ’53 was the first African American graduate of The University of Texas School of Law. The Law School commissioned the Virgil C. Lott Medal to honor the memory of this pioneer and distinguished alumnus. This award honors men and women who, like Mr. Lott, have made significant contributions to the legal profession and to the improvement of understanding among all peoples.”</p>\n\nIf you need an accommodation to participate in this event, please contact the event sponsor or the Texas Law Special Events Office at specialevents@law.utexas.edu no later than seven business days prior to the event.
X-ALT-DESC;FMTTYPE=text/html:<p>In 2011, the University of Texas School of Law established the Virgil C. Lott Medal to honor our first African American graduate. The medal is presented at a gala dinner, and recipients are chosen by a distinguished committee headed by Dean Bobby Chesney, former Dean Larry Sager, and previous winners. Dean Chesney describes the mission of the award and ceremony thusly: “Virgil C. Lott ’53 was the first African American graduate of The University of Texas School of Law. The Law School commissioned the Virgil C. Lott Medal to honor the memory of this pioneer and distinguished alumnus. This award honors men and women who, like Mr. Lott, have made significant contributions to the legal profession and to the improvement of understanding among all peoples.”</p><p>If you need an accommodation to participate in this event, please contact the event
                                          event sponsor or the Texas Law Special Events Office at <a href="mailto:specialevents@law.utexas.edu">specialevents@law.utexas.edu</a> no later than seven business days prior to the event.</p>
CATEGORIES:Dinner
LOCATION:TNH 2.100 - Susman Godfrey Atrium
URL:http://law.utexas.edu/calendar/2025/02/19/80536/
CLASS:PUBLIC
STATUS:CONFIRMED

END:VEVENT
END:VCALENDAR