BEGIN:VCALENDAR
VERSION:2.0
PRODID:-//UNIVERSITY OF TEXAS SCHOOL OF LAW//NONSGML Events Calendar v1.0//EN
X-WR-TIMEZONE:America/Chicago
BEGIN:VTIMEZONE
TZID:US/Central
X-LIC-LOCATION:America/Chicago
BEGIN:DAYLIGHT
TZOFFSETFROM:-0600
TZOFFSETTO:-0500
TZNAME:CDT
DTSTART:19700308T020000
RRULE:FREQ=YEARLY;BYMONTH=3;BYDAY=2SU
END:DAYLIGHT
BEGIN:STANDARD
TZOFFSETFROM:-0500
TZOFFSETTO:-0600
TZNAME:CST
DTSTART:19701101T020000
RRULE:FREQ=YEARLY;BYMONTH=11;BYDAY=1SU
END:STANDARD
END:VTIMEZONE
BEGIN:VEVENT
DTSTART;TZID=US/Central:20250220T115000
DTEND;VALUE=DATE-TIME;TZID=US/Central:20250220T125000

DTSTAMP:20260419T165200Z
CREATED:20241003T192400Z
LAST-MODIFIED:20250211T195700Z
UID:20250220T115000-79338@law.utexas.edu
SUMMARY:Understanding the Business of Law
DESCRIPTION:<p>Please RSVP by Tuesday, February 18, on <a href="https://law-utexas.12twenty.com/events/30006101229431">TEX</a>.</p>
  <p>Through this nuts-and-bolts presentation, you will learn the mechanics of billable hours, rate structures, write-offs, realization, and law firm capitalization. You should come away with an understanding of how a law firm operates as a business and the implications of that business model for attorneys of the firm. This candid and informative discussion is important for law students planning to work in a private law firm to understand the business of law. The program is open to all class years. Lunch will be served.</p>\n\nIf you need an accommodation to participate in this event, please contact the event sponsor or the Texas Law Special Events Office at specialevents@law.utexas.edu no later than seven business days prior to the event.
X-ALT-DESC;FMTTYPE=text/html:<p>Please RSVP by Tuesday, February 18, on <a href="https://law-utexas.12twenty.com/events/30006101229431">TEX</a>.</p>
  <p>Through this nuts-and-bolts presentation, you will learn the mechanics of billable hours, rate structures, write-offs, realization, and law firm capitalization. You should come away with an understanding of how a law firm operates as a business and the implications of that business model for attorneys of the firm. This candid and informative discussion is important for law students planning to work in a private law firm to understand the business of law. The program is open to all class years. Lunch will be served.</p><p>If you need an accommodation to participate in this event, please contact the event
                                          event sponsor or the Texas Law Special Events Office at <a href="mailto:specialevents@law.utexas.edu">specialevents@law.utexas.edu</a> no later than seven business days prior to the event.</p>
CATEGORIES:Workshop / Training Program
LOCATION:TNH 2.137 - Gayle Classroom
URL:http://law.utexas.edu/calendar/2025/02/20/79338/
CLASS:PUBLIC
STATUS:CONFIRMED
COMMENT:Please contact Tim Morales, Senior Events Specialist, at tmorales@law.utexas.edu.
END:VEVENT
END:VCALENDAR