BEGIN:VCALENDAR
VERSION:2.0
PRODID:-//UNIVERSITY OF TEXAS SCHOOL OF LAW//NONSGML Events Calendar v1.0//EN
X-WR-TIMEZONE:America/Chicago
BEGIN:VTIMEZONE
TZID:US/Central
X-LIC-LOCATION:America/Chicago
BEGIN:DAYLIGHT
TZOFFSETFROM:-0600
TZOFFSETTO:-0500
TZNAME:CDT
DTSTART:19700308T020000
RRULE:FREQ=YEARLY;BYMONTH=3;BYDAY=2SU
END:DAYLIGHT
BEGIN:STANDARD
TZOFFSETFROM:-0500
TZOFFSETTO:-0600
TZNAME:CST
DTSTART:19701101T020000
RRULE:FREQ=YEARLY;BYMONTH=11;BYDAY=1SU
END:STANDARD
END:VTIMEZONE
BEGIN:VEVENT
DTSTART;TZID=US/Central:20250220T170000
DTEND;VALUE=DATE-TIME;TZID=US/Central:20250220T193000

DTSTAMP:20260419T165900Z
CREATED:20250202T200800Z
LAST-MODIFIED:20250202T200800Z
UID:20250220T170000-81199@law.utexas.edu
SUMMARY:Former Energy Secretary Dan Brouillette
DESCRIPTION:<p>On Thursday, February 20, the Strauss Center for International Security and Law and the Kay Bailey Hutchison Energy Center welcome former U.S. Secretary of Energy Dan Brouillette for a moderated conversation as part of the KBH Energy Center’s Focus on Energy Speaker Series.</p>
  <p>This discussion will include valuable insights from Secretary Brouillette’s leadership in shaping U.S. energy policy, addressing global energy challenges, and navigating the evolving energy landscape.</p>
  <p>This event is free and open to the public and registration is required. Please note: Registration does not guarantee admission, as seating will be available on a first come, first served basis. Doors will open at 5:00 pm.</p>
  <p>The moderated conversation will occur from 5:30-6:30 pm with a networking reception to follow from 6:30-7:30 pm. Parking is available at the Rowling Hall Garage for a fee. Parking will not be validated.</p>
  <p>For any questions about this event, contact Brittany Horton at brittany.horton@austin.utexas.edu.</p>\n\nIf you need an accommodation to participate in this event, please contact the event sponsor or the Texas Law Special Events Office at specialevents@law.utexas.edu no later than seven business days prior to the event.
X-ALT-DESC;FMTTYPE=text/html:<p>On Thursday, February 20, the Strauss Center for International Security and Law and the Kay Bailey Hutchison Energy Center welcome former U.S. Secretary of Energy Dan Brouillette for a moderated conversation as part of the KBH Energy Center’s Focus on Energy Speaker Series.</p>
  <p>This discussion will include valuable insights from Secretary Brouillette’s leadership in shaping U.S. energy policy, addressing global energy challenges, and navigating the evolving energy landscape.</p>
  <p>This event is free and open to the public and registration is required. Please note: Registration does not guarantee admission, as seating will be available on a first come, first served basis. Doors will open at 5:00 pm.</p>
  <p>The moderated conversation will occur from 5:30-6:30 pm with a networking reception to follow from 6:30-7:30 pm. Parking is available at the Rowling Hall Garage for a fee. Parking will not be validated.</p>
  <p>For any questions about this event, contact Brittany Horton at brittany.horton@austin.utexas.edu.</p><p>If you need an accommodation to participate in this event, please contact the event
                                          event sponsor or the Texas Law Special Events Office at <a href="mailto:specialevents@law.utexas.edu">specialevents@law.utexas.edu</a> no later than seven business days prior to the event.</p>

LOCATION:Crum Auditorium, Robert B. Rowling Hall
URL:http://law.utexas.edu/calendar/2025/02/20/81199/
CLASS:PUBLIC
STATUS:CONFIRMED
COMMENT:Email Brittany Horton at brittany.horton@austin.utexas.edu
END:VEVENT
END:VCALENDAR