BEGIN:VCALENDAR
VERSION:2.0
PRODID:-//UNIVERSITY OF TEXAS SCHOOL OF LAW//NONSGML Events Calendar v1.0//EN
X-WR-TIMEZONE:America/Chicago
BEGIN:VTIMEZONE
TZID:US/Central
X-LIC-LOCATION:America/Chicago
BEGIN:DAYLIGHT
TZOFFSETFROM:-0600
TZOFFSETTO:-0500
TZNAME:CDT
DTSTART:19700308T020000
RRULE:FREQ=YEARLY;BYMONTH=3;BYDAY=2SU
END:DAYLIGHT
BEGIN:STANDARD
TZOFFSETFROM:-0500
TZOFFSETTO:-0600
TZNAME:CST
DTSTART:19701101T020000
RRULE:FREQ=YEARLY;BYMONTH=11;BYDAY=1SU
END:STANDARD
END:VTIMEZONE
BEGIN:VEVENT
DTSTART;TZID=US/Central:20250225T120000
DTEND;VALUE=DATE-TIME;TZID=US/Central:20250225T131500

DTSTAMP:20260419T161500Z
CREATED:20250131T194000Z
LAST-MODIFIED:20250225T132100Z
UID:20250225T120000-81181@law.utexas.edu
SUMMARY:EmPOWERed for Public Interest
DESCRIPTION:<p>Join the Justice Center's next event in its EmPOWERed for Public Interest (EPI) initiative, "EPI Presents: Meet &amp; Greet with Texas Law Faculty."</p>
  <p>This event offers students a unique opportunity to connect with Texas Law faculty over lunch and engage in meaningful conversations on navigating law school and pursuing public interest legal careers. During the lunch, students will be seated with faculty members whose legal backgrounds and expertise best match the student's interests. We hope that students and faculty members can share common interests, discuss career aspirations, and reflect together on the journey of being a public interest advocate.</p>
  <p>Please RSVP by noon on Friday, February 21st.</p>\n\nIf you need an accommodation to participate in this event, please contact the event sponsor or the Texas Law Special Events Office at specialevents@law.utexas.edu no later than seven business days prior to the event.
X-ALT-DESC;FMTTYPE=text/html:<p>Join the Justice Center's next event in its EmPOWERed for Public Interest (EPI) initiative, "EPI Presents: Meet &amp; Greet with Texas Law Faculty."</p>
  <p>This event offers students a unique opportunity to connect with Texas Law faculty over lunch and engage in meaningful conversations on navigating law school and pursuing public interest legal careers. During the lunch, students will be seated with faculty members whose legal backgrounds and expertise best match the student's interests. We hope that students and faculty members can share common interests, discuss career aspirations, and reflect together on the journey of being a public interest advocate.</p>
  <p>Please RSVP by noon on Friday, February 21st.</p><p>If you need an accommodation to participate in this event, please contact the event
                                          event sponsor or the Texas Law Special Events Office at <a href="mailto:specialevents@law.utexas.edu">specialevents@law.utexas.edu</a> no later than seven business days prior to the event.</p>
CATEGORIES:Lunch
LOCATION:TNH 2.111 - Sheffield-Massey Room
URL:http://law.utexas.edu/calendar/2025/02/25/81181/
CLASS:PUBLIC
STATUS:CONFIRMED

END:VEVENT
END:VCALENDAR