BEGIN:VCALENDAR
VERSION:2.0
PRODID:-//UNIVERSITY OF TEXAS SCHOOL OF LAW//NONSGML Events Calendar v1.0//EN
X-WR-TIMEZONE:America/Chicago
BEGIN:VTIMEZONE
TZID:US/Central
X-LIC-LOCATION:America/Chicago
BEGIN:DAYLIGHT
TZOFFSETFROM:-0600
TZOFFSETTO:-0500
TZNAME:CDT
DTSTART:19700308T020000
RRULE:FREQ=YEARLY;BYMONTH=3;BYDAY=2SU
END:DAYLIGHT
BEGIN:STANDARD
TZOFFSETFROM:-0500
TZOFFSETTO:-0600
TZNAME:CST
DTSTART:19701101T020000
RRULE:FREQ=YEARLY;BYMONTH=11;BYDAY=1SU
END:STANDARD
END:VTIMEZONE
BEGIN:VEVENT
DTSTART;TZID=US/Central:20250306T090000
DTEND;VALUE=DATE-TIME;TZID=US/Central:20250306T170000

DTSTAMP:20260419T155400Z
CREATED:20241214T013800Z
LAST-MODIFIED:20241214T013800Z
UID:20250306T090000-80458@law.utexas.edu
SUMMARY:Spring Interview Program
DESCRIPTION:<p>The Spring Interview Program welcomes employers to recruit 1Ls, 2Ls, 3Ls, domestic and foreign-trained LL.M.s, and recent graduates (up to one year after graduation) for summer clerkships or postgraduate positions.</p>\n\nIf you need an accommodation to participate in this event, please contact the event sponsor or the Texas Law Special Events Office at specialevents@law.utexas.edu no later than seven business days prior to the event.
X-ALT-DESC;FMTTYPE=text/html:<p>The Spring Interview Program welcomes employers to recruit 1Ls, 2Ls, 3Ls, domestic and foreign-trained LL.M.s, and recent graduates (up to one year after graduation) for summer clerkships or postgraduate positions.</p><p>If you need an accommodation to participate in this event, please contact the event
                                          event sponsor or the Texas Law Special Events Office at <a href="mailto:specialevents@law.utexas.edu">specialevents@law.utexas.edu</a> no later than seven business days prior to the event.</p>
CATEGORIES:Interview Program
LOCATION:Career Services Interview Suite (TNH 3.122)
URL:http://law.utexas.edu/calendar/2025/03/06/80458/
CLASS:PUBLIC
STATUS:CONFIRMED
COMMENT:Please contact <a href="mailto:rquiroz@law.utexas.edu">Rachel Quiroz</a>, Senior Interview Programs Coordinator.
END:VEVENT
END:VCALENDAR