BEGIN:VCALENDAR
VERSION:2.0
PRODID:-//UNIVERSITY OF TEXAS SCHOOL OF LAW//NONSGML Events Calendar v1.0//EN
X-WR-TIMEZONE:America/Chicago
BEGIN:VTIMEZONE
TZID:US/Central
X-LIC-LOCATION:America/Chicago
BEGIN:DAYLIGHT
TZOFFSETFROM:-0600
TZOFFSETTO:-0500
TZNAME:CDT
DTSTART:19700308T020000
RRULE:FREQ=YEARLY;BYMONTH=3;BYDAY=2SU
END:DAYLIGHT
BEGIN:STANDARD
TZOFFSETFROM:-0500
TZOFFSETTO:-0600
TZNAME:CST
DTSTART:19701101T020000
RRULE:FREQ=YEARLY;BYMONTH=11;BYDAY=1SU
END:STANDARD
END:VTIMEZONE
BEGIN:VEVENT
DTSTART;TZID=US/Central:20250401T114500
DTEND;VALUE=DATE-TIME;TZID=US/Central:20250401T125000

DTSTAMP:20260419T153600Z
CREATED:20250128T173800Z
LAST-MODIFIED:20250128T174700Z
UID:20250401T114500-81155@law.utexas.edu
SUMMARY:1L Introduction to Judicial Clerkships
DESCRIPTION:<p>This program will answer the following questions: (1) What is a judicial clerk?; (2) Why are clerkships considered to be such a valuable experience?; (3) What do judges look for in clerks?; and (4) How does the role of a clerk vary in different chambers and types of courts? We will also discuss the timing of your own clerkship search, things to be thinking about now if you want to clerk, and how to best position yourself to be a competitive clerkship applicant.</p>
  <p>For additional information take a look at these materials: <a href="https://law.utexas.edu/wp-content/uploads/sites/10/2015/04/1Ls-Becoming-Successful-Judicial-Clerkship-Candidate.pdf">https://law.utexas.edu/wp-content/uploads/sites/10/2015/04/1Ls-Becoming-Successful-Judicial-Clerkship-Candidate.pdf</a></p>
  <p>Lunch will be served. Register for the event by 8:00pm on March 28, 2025</p>\n\nIf you need an accommodation to participate in this event, please contact the event sponsor or the Texas Law Special Events Office at specialevents@law.utexas.edu no later than seven business days prior to the event.
X-ALT-DESC;FMTTYPE=text/html:<p>This program will answer the following questions: (1) What is a judicial clerk?; (2) Why are clerkships considered to be such a valuable experience?; (3) What do judges look for in clerks?; and (4) How does the role of a clerk vary in different chambers and types of courts? We will also discuss the timing of your own clerkship search, things to be thinking about now if you want to clerk, and how to best position yourself to be a competitive clerkship applicant.</p>
  <p>For additional information take a look at these materials: <a href="https://law.utexas.edu/wp-content/uploads/sites/10/2015/04/1Ls-Becoming-Successful-Judicial-Clerkship-Candidate.pdf">https://law.utexas.edu/wp-content/uploads/sites/10/2015/04/1Ls-Becoming-Successful-Judicial-Clerkship-Candidate.pdf</a></p>
  <p>Lunch will be served. Register for the event by 8:00pm on March 28, 2025</p><p>If you need an accommodation to participate in this event, please contact the event
                                          event sponsor or the Texas Law Special Events Office at <a href="mailto:specialevents@law.utexas.edu">specialevents@law.utexas.edu</a> no later than seven business days prior to the event.</p>
CATEGORIES:Workshop / Training Program
LOCATION:TNH 2.137 - Gayle Classroom
URL:http://law.utexas.edu/calendar/2025/04/01/81155/
CLASS:PUBLIC
STATUS:CONFIRMED

END:VEVENT
END:VCALENDAR