BEGIN:VCALENDAR
VERSION:2.0
PRODID:-//UNIVERSITY OF TEXAS SCHOOL OF LAW//NONSGML Events Calendar v1.0//EN
X-WR-TIMEZONE:America/Chicago
BEGIN:VTIMEZONE
TZID:US/Central
X-LIC-LOCATION:America/Chicago
BEGIN:DAYLIGHT
TZOFFSETFROM:-0600
TZOFFSETTO:-0500
TZNAME:CDT
DTSTART:19700308T020000
RRULE:FREQ=YEARLY;BYMONTH=3;BYDAY=2SU
END:DAYLIGHT
BEGIN:STANDARD
TZOFFSETFROM:-0500
TZOFFSETTO:-0600
TZNAME:CST
DTSTART:19701101T020000
RRULE:FREQ=YEARLY;BYMONTH=11;BYDAY=1SU
END:STANDARD
END:VTIMEZONE
BEGIN:VEVENT
DTSTART;TZID=US/Central:20250402T120000
DTEND;VALUE=DATE-TIME;TZID=US/Central:20250402T125000

DTSTAMP:20260419T195700Z
CREATED:20250328T021400Z
LAST-MODIFIED:20250328T210400Z
UID:20250402T120000-82117@law.utexas.edu
SUMMARY:Defining “Personhood”  Post-Dobbs 
DESCRIPTION:<p>Are viable unborn human beings constitutional persons? Join us as Teresa Stanton Collett, Professor of Law at the University of St. Thomas, discusses how the Supreme Court’s decision in Dobbs v. Jackson Women’s Health Organization has altered the debate surrounding the legal status of the unborn. Lunch provided! </p>\n\nIf you need an accommodation to participate in this event, please contact the event sponsor or the Texas Law Special Events Office at specialevents@law.utexas.edu no later than seven business days prior to the event.
X-ALT-DESC;FMTTYPE=text/html:<p>Are viable unborn human beings constitutional persons? Join us as Teresa Stanton Collett, Professor of Law at the University of St. Thomas, discusses how the Supreme Court’s decision in Dobbs v. Jackson Women’s Health Organization has altered the debate surrounding the legal status of the unborn. Lunch provided! </p><p>If you need an accommodation to participate in this event, please contact the event
                                          event sponsor or the Texas Law Special Events Office at <a href="mailto:specialevents@law.utexas.edu">specialevents@law.utexas.edu</a> no later than seven business days prior to the event.</p>
CATEGORIES:Lunch
LOCATION:TNH 2.123 - Beck Classroom
URL:http://law.utexas.edu/calendar/2025/04/02/82117/
CLASS:PUBLIC
STATUS:CONFIRMED

END:VEVENT
END:VCALENDAR