BEGIN:VCALENDAR
VERSION:2.0
PRODID:-//UNIVERSITY OF TEXAS SCHOOL OF LAW//NONSGML Events Calendar v1.0//EN
X-WR-TIMEZONE:America/Chicago
BEGIN:VTIMEZONE
TZID:US/Central
X-LIC-LOCATION:America/Chicago
BEGIN:DAYLIGHT
TZOFFSETFROM:-0600
TZOFFSETTO:-0500
TZNAME:CDT
DTSTART:19700308T020000
RRULE:FREQ=YEARLY;BYMONTH=3;BYDAY=2SU
END:DAYLIGHT
BEGIN:STANDARD
TZOFFSETFROM:-0500
TZOFFSETTO:-0600
TZNAME:CST
DTSTART:19701101T020000
RRULE:FREQ=YEARLY;BYMONTH=11;BYDAY=1SU
END:STANDARD
END:VTIMEZONE
BEGIN:VEVENT
DTSTART;TZID=US/Central:20250408T115000
DTEND;VALUE=DATE-TIME;TZID=US/Central:20250408T125000

DTSTAMP:20260419T181400Z
CREATED:20250312T144400Z
LAST-MODIFIED:20250325T204800Z
UID:20250408T115000-81935@law.utexas.edu
SUMMARY:Careers in Environmental Law
DESCRIPTION:<p>Please RSVP by Monday, April 7, on <a href="https://law-utexas.12twenty.com/events/30006101264560">TEX</a>. Pizza will be served.</p>
  <p>Come learn about careers in environmental law, including in the private, government and non-profit sectors. A panel of professionals with diverse careers in this sector will discuss their paths to environmental law and will answer your questions about pursuing a career in the environmental area. </p>
  <p>Panelists:</p>
  <p>
  </p>
  <p>•	Mary Smith – TCEQ General Counsel</p>
  <p>•	Betsy Peticolas – RRC Office of General Counsel</p>
  <p>•	Mike Vitris – Principal, Beveridge &amp; Diamond</p>
  <p>•	Ashley Phillips – Partner, Holland &amp; Knight</p>
  <p>•	Cory Pomeroy – Vice President &amp; General Counsel, Texas Oil and Gas Association</p>
  <p>•	Chris Smith – Partner, Smith Jolin PLLC</p>\n\nIf you need an accommodation to participate in this event, please contact the event sponsor or the Texas Law Special Events Office at specialevents@law.utexas.edu no later than seven business days prior to the event.
X-ALT-DESC;FMTTYPE=text/html:<p>Please RSVP by Monday, April 7, on <a href="https://law-utexas.12twenty.com/events/30006101264560">TEX</a>. Pizza will be served.</p>
  <p>Come learn about careers in environmental law, including in the private, government and non-profit sectors. A panel of professionals with diverse careers in this sector will discuss their paths to environmental law and will answer your questions about pursuing a career in the environmental area. </p>
  <p>Panelists:</p>
  <p>
  </p>
  <p>•	Mary Smith – TCEQ General Counsel</p>
  <p>•	Betsy Peticolas – RRC Office of General Counsel</p>
  <p>•	Mike Vitris – Principal, Beveridge &amp; Diamond</p>
  <p>•	Ashley Phillips – Partner, Holland &amp; Knight</p>
  <p>•	Cory Pomeroy – Vice President &amp; General Counsel, Texas Oil and Gas Association</p>
  <p>•	Chris Smith – Partner, Smith Jolin PLLC</p><p>If you need an accommodation to participate in this event, please contact the event
                                          event sponsor or the Texas Law Special Events Office at <a href="mailto:specialevents@law.utexas.edu">specialevents@law.utexas.edu</a> no later than seven business days prior to the event.</p>
CATEGORIES:Panel Discussion / Speaker Series
LOCATION:TNH 3.142 - Walker Classroom
URL:http://law.utexas.edu/calendar/2025/04/08/81935/
CLASS:PUBLIC
STATUS:CONFIRMED
COMMENT:Please contact Ryan Gersovitz, Career Counselor, at <a href="mailto:ryan.gersovitz@law.utexas.edu"> ryan.gersovitz@law.utexas.edu</a>.
END:VEVENT
END:VCALENDAR