BEGIN:VCALENDAR
VERSION:2.0
PRODID:-//UNIVERSITY OF TEXAS SCHOOL OF LAW//NONSGML Events Calendar v1.0//EN
X-WR-TIMEZONE:America/Chicago
BEGIN:VTIMEZONE
TZID:US/Central
X-LIC-LOCATION:America/Chicago
BEGIN:DAYLIGHT
TZOFFSETFROM:-0600
TZOFFSETTO:-0500
TZNAME:CDT
DTSTART:19700308T020000
RRULE:FREQ=YEARLY;BYMONTH=3;BYDAY=2SU
END:DAYLIGHT
BEGIN:STANDARD
TZOFFSETFROM:-0500
TZOFFSETTO:-0600
TZNAME:CST
DTSTART:19701101T020000
RRULE:FREQ=YEARLY;BYMONTH=11;BYDAY=1SU
END:STANDARD
END:VTIMEZONE
BEGIN:VEVENT
DTSTART;TZID=US/Central:20250408T120000
DTEND;VALUE=DATE-TIME;TZID=US/Central:20250408T125000

DTSTAMP:20260419T212700Z
CREATED:20250328T220200Z
LAST-MODIFIED:20250404T184800Z
UID:20250408T120000-82156@law.utexas.edu
SUMMARY:International Animal Law Workshop
DESCRIPTION:<p>Join us for an engaging lunch event exploring international animal law through the lens of the documentary Before She Sleeps. J. Faye Yuan, a bilingual curator with a focus on historical memory, diaspora identity, and climate justice, brings a unique perspective to the intersection of law and storytelling. Her work has been supported by the Asian American Documentary Network, the Center for Asian American Media, and the International Documentary Association.</p>
  <p>J. Faye Yuan will present key clips from the film and provide an overview of its powerful story. The discussion will delve into global legal issues surrounding animal rights, conservation, and climate activism, examining how international frameworks and policies shape the protection of animals across borders.</p>
  <p>Don't miss this thought-provoking conversation at the intersection of film, law, and advocacy! Lunch will be provided.</p>\n\nIf you need an accommodation to participate in this event, please contact the event sponsor or the Texas Law Special Events Office at specialevents@law.utexas.edu no later than seven business days prior to the event.
X-ALT-DESC;FMTTYPE=text/html:<p>Join us for an engaging lunch event exploring international animal law through the lens of the documentary Before She Sleeps. J. Faye Yuan, a bilingual curator with a focus on historical memory, diaspora identity, and climate justice, brings a unique perspective to the intersection of law and storytelling. Her work has been supported by the Asian American Documentary Network, the Center for Asian American Media, and the International Documentary Association.</p>
  <p>J. Faye Yuan will present key clips from the film and provide an overview of its powerful story. The discussion will delve into global legal issues surrounding animal rights, conservation, and climate activism, examining how international frameworks and policies shape the protection of animals across borders.</p>
  <p>Don't miss this thought-provoking conversation at the intersection of film, law, and advocacy! Lunch will be provided.</p><p>If you need an accommodation to participate in this event, please contact the event
                                          event sponsor or the Texas Law Special Events Office at <a href="mailto:specialevents@law.utexas.edu">specialevents@law.utexas.edu</a> no later than seven business days prior to the event.</p>
CATEGORIES:Lunch
LOCATION:TNH 2.137 - Gayle Classroom
URL:http://law.utexas.edu/calendar/2025/04/08/82156/
CLASS:PUBLIC
STATUS:CONFIRMED

END:VEVENT
END:VCALENDAR